BEGIN:VCALENDAR
VERSION:2.0
PRODID:-//wp-events-plugin.com//7.2.3.1//EN
TZID:Europe/Warsaw
X-WR-TIMEZONE:Europe/Warsaw
BEGIN:VEVENT
UID:47904@night4u.pl
DTSTART;TZID=Europe/Warsaw:20200228T203000
DTEND;TZID=Europe/Warsaw:20200228T223000
DTSTAMP:20200228T193329Z
URL:https://night4u.pl/wydarzenia/pol-na-pol-fundacja-kultury-westart-scen
 a-stara-rzeznia/
SUMMARY:PÓŁ NA PÓŁ - Fundacja Kultury West&amp\;Art - Scena Stara Rzeź
 nia
DESCRIPTION:Przychodzi brat do brata\, czyli rodzinna tragifarsa z chorą m
 atką w tle. Będzie śmiesznie i strasznie\, bo emocje są silne\, a staw
 ka najwyższa. To historia o nas\, o naszych relacjach z najbliższymi\, o
  tym co jest ważne i gdzie jest granica przyzwoitości\, o ile w ogóle j
 est... Do czego jesteśmy zdolni\, kiedy nasza mała stabilizacja jest zag
 rożona? O tym wszystkim opowiada\, w niezwykle błyskotliwym dialogu\, pe
 łna zaskakujących zwrotów akcji\, sztuka dwóch hiszpańskich autorów.
 ..\n\nJordi Sanchez i Pep Anton Gomez w sztuce “Pół na pół” udowod
 nią nam\, że nie każdy rodzinny dramat kończy się tak\, jak wszyscy s
 ię tego spodziewają.\n\nOBSADA: Sławomir Kołakowski\, Wiesław Orłows
 ki\nREŻYSERIA I SCENOGRAFIA: Tomasz Obara\nTŁUMACZENIE: Rubi Birden\n\nB
 ilety ulgowe do nabycia u organizatora - 606364720
ATTACH;FMTTYPE=image/jpeg:https://night4u.pl/wp-content/uploads/2020/02/16
 1129_image_85085733_1217515361786553_6408566783065718784_o.jpg
CATEGORIES:zachodniopomorskie
LOCATION:Centrum Kultury Euroregionu Stara Rzeźnia\, Tadeusza Wendy 14\, S
 zczecin\, 70-655\, Poland
GEO:53.427148;14.573854
X-APPLE-STRUCTURED-LOCATION;VALUE=URI;X-ADDRESS=Tadeusza Wendy 14\, Szczeci
 n\, 70-655\, Poland;X-APPLE-RADIUS=100;X-TITLE=Centrum Kultury Euroregionu
  Stara Rzeźnia:geo:53.427148,14.573854
END:VEVENT
BEGIN:VTIMEZONE
TZID:Europe/Warsaw
X-LIC-LOCATION:Europe/Warsaw
BEGIN:STANDARD
DTSTART:20191027T020000
TZOFFSETFROM:+0200
TZOFFSETTO:+0100
TZNAME:CET
END:STANDARD
END:VTIMEZONE
END:VCALENDAR