BEGIN:VCALENDAR
VERSION:2.0
PRODID:-//wp-events-plugin.com//7.2.3.1//EN
TZID:Europe/Warsaw
X-WR-TIMEZONE:Europe/Warsaw
BEGIN:VEVENT
UID:41109@night4u.pl
DTSTART;TZID=Europe/Warsaw:20200119T200000
DTEND;TZID=Europe/Warsaw:20200119T230000
DTSTAMP:20200119T154800Z
URL:https://night4u.pl/wydarzenia/polimorfizm-overdose-zagraja-w-alive/
SUMMARY:Polimorfizm / Overdose zagrają w Alive!
DESCRIPTION:Polimorfizm to 5 osobowy związek organiczny\, który charakter
 yzuje się wysokim stężeniem rock n rolla i szaleństwa. Zażywanie tego
  środka powoduje genetyczne zmodyfikowanie DNA\, które\nzmienia się w w
 ielopostaciowe stężenie rock n rolla i szaleństwa. Przebywanie lub słu
 chanie takich osób powoduje nieodwracalne zmiany neuronowo-dożylne i do
 żywotne uzależnienie od hard rocka i\njego kopa:) Przedawkowanie powoduj
 e śmierć.\n\nSkład:\nwokal Aleksandra „Róża” Lubowicz\ngitara pro
 wadząca-Łukasz Markowicz\ngitara rytmiczna- Jakub Godlewski\ngitara baso
 wa-Mariusz Sobolewski\nperkusja- Maciej Firus\n\nYT: https://www.youtube.c
 om/channel/UCMubpV2j-2o_9gnhpAZHBLQ\n\nFB: https://www.facebook.com/Polimo
 rfizm/\n\n***\n\nOVERDOSE\n Jesteśmy młoda grupą muzyczną ukierunkowan
 ą w kierunku power rocka. Naszym rodzinnym miastem jest Wrocław. To wła
 śnie tu tworzymy naszą muzykę. Zespół po przejściach i zmianach form
 acyjnych. Kiedyś noszący nazwę Wild Eagle. Wokalistka Aleksandra Lubowi
 cz\, wraz z bębniarzem Hubertem Wróblewskim postanowili kontynuować swo
 ją muzyczną passę i wskrzesili poprzedni zespół. Nasz zespół różn
 i się wszystkim od poprzedniego. Nowe brzmienie\, doświadczeni muzycy\, 
 skład z charakterem.\n\nSKŁAD ZESPOŁU:\nAleksandra „Róża” Lubowic
 z: Wokalistka z wieloletnim wykształceniem muzycznym. Cechująca się\nmo
 cnym kobiecym głosem.\n\nHubert Wróblewski Perkusista z 15 letnim doświ
 adczeniem. Kończący szkole muzyczna wiele lat temu wraz z Aleksandrą. C
 echujący się mocną i dynamiczną grą.\n\nPatryk „Szafa” Szafarczyk
  Dusza artysty i serce zespołu. Cechujący się ciekawym brzmieniem.Twór
 ca wszystkich gitarowych riffów.\n\nJakub Bogucki Oddany basista. Trzon r
 ytmiczny zespołu. Najmłodszy z nas wszystkich.\n\nFB: https://www.facebo
 ok.com/Overdose-104209994421732/\nIG: https://www.instagram.com/official.o
 verdose/?hl=pl\n\n\n****** Tak\, tutaj nie ma pomyłki! W obydwu zespołac
 h śpiewa Róża. Dwa inne style\, dwa inne światy.\nSerdecznie zapraszam
 y na koncert!!!!!!! *****\n\n\n19:00 bramka\n20:00 Polimorfizm\n21:00 Over
 dose\n\nWJAZD: minimum 5 zł
ATTACH;FMTTYPE=image/jpeg:https://night4u.pl/wp-content/uploads/2019/12/12
 7667_image_79883091_2704613452928441_1396865171594412032_n.jpg
CATEGORIES:dolnośląskie
LOCATION:Alive\, ul. Kolejowa 12\, Wroclaw\, 53-508\, Poland
GEO:51.10138;17.02286
X-APPLE-STRUCTURED-LOCATION;VALUE=URI;X-ADDRESS=ul. Kolejowa 12\, Wroclaw\,
  53-508\, Poland;X-APPLE-RADIUS=100;X-TITLE=Alive:geo:51.10138,17.02286
END:VEVENT
BEGIN:VTIMEZONE
TZID:Europe/Warsaw
X-LIC-LOCATION:Europe/Warsaw
BEGIN:STANDARD
DTSTART:20191027T020000
TZOFFSETFROM:+0200
TZOFFSETTO:+0100
TZNAME:CET
END:STANDARD
END:VTIMEZONE
END:VCALENDAR