BEGIN:VCALENDAR
VERSION:2.0
PRODID:-//wp-events-plugin.com//7.2.3.1//EN
TZID:Europe/Warsaw
X-WR-TIMEZONE:Europe/Warsaw
BEGIN:VEVENT
UID:34963@night4u.pl
DTSTART;TZID=Europe/Warsaw:20191120T220100
DTEND;TZID=Europe/Warsaw:20191121T060100
DTSTAMP:20200401T084234Z
URL:https://night4u.pl/wydarzenia/polish-wedding-with-esn-ul-esn-eye/
SUMMARY:Polish Wedding with ESN UŁ &amp\; ESN-EYE
DESCRIPTION:Are you curious how a Polish Wedding looks like? 👰🏻🤵\n
 Come to our party and check it out! 💏\n\nWe will wait for you with the 
 welcome shot!\n\nWhat is more\, you will be able to see the real wedding c
 eremony!\n\nBride\, groom\, priest and some surprises from married couple 
 will be waiting there for you! 💐\n\n🕚 Start: 22:01 \n\n💒 Place: P
 rywatka Club - Struga 8/10\n\nEntrance rules:\n- Invitations 5 PLN whole n
 ight\n- Students up to 24:00 - 5 PLN\n- Others 10 PLN\n\nWith ESNcard you 
 will get an extra shot!
ATTACH;FMTTYPE=image/jpeg:https://night4u.pl/wp-content/uploads/2019/11/91
 764_image_74794088_10157823917404759_6286127719407157248_o.jpg
CATEGORIES:łódzkie
LOCATION:Prywatka\, Andrzeja Struga 8/10\, Łódź\, 90-426\, Poland
GEO:51.765118;19.455113
X-APPLE-STRUCTURED-LOCATION;VALUE=URI;X-ADDRESS=Andrzeja Struga 8/10\, Łó
 dź\, 90-426\, Poland;X-APPLE-RADIUS=100;X-TITLE=Prywatka:geo:51.765118,19
 .455113
END:VEVENT
BEGIN:VTIMEZONE
TZID:Europe/Warsaw
X-LIC-LOCATION:Europe/Warsaw
BEGIN:STANDARD
DTSTART:20191027T020000
TZOFFSETFROM:+0200
TZOFFSETTO:+0100
TZNAME:CET
END:STANDARD
END:VTIMEZONE
END:VCALENDAR