BEGIN:VCALENDAR
VERSION:2.0
PRODID:-//wp-events-plugin.com//7.2.3.1//EN
TZID:Europe/Warsaw
X-WR-TIMEZONE:Europe/Warsaw
BEGIN:VEVENT
UID:16897@night4u.pl
DTSTART;TZID=Europe/Warsaw:20190615T223000
DTEND;TZID=Europe/Warsaw:20190616T073000
DTSTAMP:20190522T094622Z
URL:https://night4u.pl/wydarzenia/poliz-techno-x-t-a-k-a-live-x-prozak-2-0
 /
SUMMARY:Poliż Techno x T A K A Live x Prozak 2.0
DESCRIPTION:Kolejna edycja naszej serii Poliż Techno odbędzie się pod ku
 raturą wyjątkowej\, polskiej artystki rezydującej w Londynie\, prezentu
 jącej jedyne w swoim rodzaju LIVE Acty - T A K A!\n\nT A K A zadebiutowa
 ła w 2015 jako ½ projektu Based On Lies\, jednak po przeprowadzeniu się
  do Londynu Joanna stworzyła postać postać pod którą znamy ją teraz\
 , po raz pierwszy pokazując się na Siren Party. Po zaledwie dwóch latac
 h doczekała się swojej pierwszej publikacji z ramienia labelu LDNwht\, c
 o następnie poskutkowało wydaniem jej utworu na kompilacji Mord Records.
 \n\nW 2.0 towarzyszyć jej będzie nasza wschodząca gwiazda - Vi!\n\n[-2]
  Poliż Techno\nT A K A LIVE\nVi\n\nDo 23:00: wejście FREE dla osób “b
 iorących udział” w wydarzeniu.\nPo 23:00: 10/ 20 PLN.\n\n---\n\nYet an
 other edition of Poliż Techno will be hosted by incredible polish artist 
 based in London\, presenting outstanding LIVE Acts - T A K A!\n\nT A K A d
 ebuted in 2015 on the techno stage as a half of the Based On Lies project\
 , with which she performed at Corsica Studios in London. After moving to L
 ondon\, she shaped her taste and created T A K A\, a solo project with whi
 ch she made her UK debut during the Siren Party. After two years of numero
 us performances\, she got her first release under the LDNwht label and soo
 n after her track was released on a Mord Records compilation.\n\nIn 2.0 T 
 A K A will play next to our rising star - VI!\n\n[-2] Poliż Techno\nT A K
  A LIVE\nVi\n\nBy 11:00pm: FREE entry for Facebook “going” list.\nAfte
 r 11:00pm: 10/ 20 PLN.
ATTACH;FMTTYPE=image/jpeg:https://night4u.pl/wp-content/uploads/2019/05/41
 390_image_60684264_2296555020405234_83245017476366336_o.jpg
CATEGORIES:małopolskie
LOCATION:Prozak 2.0\, Plac Dominikański 6\, Kraków\, 31-032\, Poland
GEO:50.058986;19.938203
X-APPLE-STRUCTURED-LOCATION;VALUE=URI;X-ADDRESS=Plac Dominikański 6\, Krak
 ów\, 31-032\, Poland;X-APPLE-RADIUS=100;X-TITLE=Prozak 2.0:geo:50.058986,
 19.938203
END:VEVENT
BEGIN:VTIMEZONE
TZID:Europe/Warsaw
X-LIC-LOCATION:Europe/Warsaw
BEGIN:DAYLIGHT
DTSTART:20190331T030000
TZOFFSETFROM:+0100
TZOFFSETTO:+0200
TZNAME:CEST
END:DAYLIGHT
END:VTIMEZONE
END:VCALENDAR