BEGIN:VCALENDAR
VERSION:2.0
PRODID:-//wp-events-plugin.com//7.2.3.1//EN
TZID:Europe/Warsaw
X-WR-TIMEZONE:Europe/Warsaw
BEGIN:VEVENT
UID:6678@night4u.pl
DTSTART;TZID=Europe/Warsaw:20190301T210000
DTEND;TZID=Europe/Warsaw:20190301T210000
DTSTAMP:20190207T103514Z
URL:https://night4u.pl/wydarzenia/polmetek-zeroma-x-single-party-x-piekna-
 sprawa-x-i-w-o/
SUMMARY:Półmetek Żeroma x Single Party x Piękna Sprawa x I.W.O
DESCRIPTION:Zapraszamy na Półmetek Żeroma\, który jednocześnie jest ko
 ntynuacją cyklu imprez Single Party!\n\nNa wejściu otrzymacie opaskę z 
 kolorem zależnym od tego czy jesteście ”wolni” czy ”zajęci”\, j
 ednak głównym tematem jest świętowanie zakończenia połowy roku szkol
 nego w Żeromskim!\n\nWidzimy się już 01.03 w klubie Remedium\, gdzie za
 gra dla was niezastąpiony I.W.O.\n\nBilety: 20PLN\n\nDostępne u promotor
 ów:\n\nEwa Bączek (?Żerom)�Natalia Ogórowska (?Żerom)\nMarcel Zych 
 (?Żerom)\nWojciech Pielok (?Staszic)\nSylwia Ścigaj (?Staszic)\nMichał 
 Jacuniak (?Cały Sosnowiec)\nOliwia Kramarz (?Korczak)\nRafał Piętka (?C
 ały Sosnowiec)\nMaciej Radwan (? Cały Sosnowiec)\nWiktoria Chabierska (?
 Cały Sosnowiec)\nKamil Buchacz (?Plater)\nPatrycja Makieła (?Cały Sosno
 wiec)\nSandra Mianowana (?Ekonomik)\nZuza Waksmańska (?Gastronomik)\nSeba
 stian Urbańczyk (?Cały Sosnowiec)\n\nW celu kupna lóż zapraszamy do ko
 ntaktu z Bartek Szarek\n\nCzekamy na was pierwszego marca w Remedium!
ATTACH;FMTTYPE=image/jpeg:https://night4u.pl/wp-content/uploads/2019/02/19
 569_image_51161318_1683803358433064_6862953913297928192_n.jpg
CATEGORIES:śląskie
LOCATION:Remedium\, Sucha 7c\, Sosnowiec\, 41-200\, Poland
GEO:50.297428;19.133436
X-APPLE-STRUCTURED-LOCATION;VALUE=URI;X-ADDRESS=Sucha 7c\, Sosnowiec\, 41-2
 00\, Poland;X-APPLE-RADIUS=100;X-TITLE=Remedium:geo:50.297428,19.133436
END:VEVENT
BEGIN:VTIMEZONE
TZID:Europe/Warsaw
X-LIC-LOCATION:Europe/Warsaw
BEGIN:STANDARD
DTSTART:20181028T020000
TZOFFSETFROM:+0200
TZOFFSETTO:+0100
TZNAME:CET
END:STANDARD
END:VTIMEZONE
END:VCALENDAR