BEGIN:VCALENDAR
VERSION:2.0
PRODID:-//wp-events-plugin.com//7.2.3.1//EN
TZID:Europe/Warsaw
X-WR-TIMEZONE:Europe/Warsaw
BEGIN:VEVENT
UID:30383@night4u.pl
DTSTART;TZID=Europe/Warsaw:20191017T210000
DTEND;TZID=Europe/Warsaw:20191018T050000
DTSTAMP:20191017T094614Z
URL:https://night4u.pl/wydarzenia/polskie-granie/
SUMMARY:Polskie granie
DESCRIPTION:Macie ochotę poszaleć przy największych hitach polskiej muzy
 ki?🎸🎧 W takim razie zapraszamy na parkiet gdańskiego Klubu Parlamen
 t 17 października! \n\nNie zabraknie dźwięków z polskiej sceny muzyczn
 ej\, tekstów znanych od pierwszej do ostatniej linijki\, a także wyjątk
 owej atmosfery 🎷\n\nSTART 21:00\nWSTĘP FREE DLA WSZYSTKICH \n\nJeśli 
 chcecie loże tylko dla siebie to: \n➡ rzut oka na http://parlament.com.
 pl/rezerwacje/\n➡ 📧 lub ☎ do Patryka Mizerskiego\, który ogarnia r
 ezerwacje patrykmizerski.kp@gmail.com\, tel.: 518 203 597.\n__________\n\n
 \n► START: 9:00 PM\n► ENTRANCE: FREE\n\nTable booking:  patrykmizerski
 .kp@gmail.com 518 203 597
ATTACH;FMTTYPE=image/jpeg:https://night4u.pl/wp-content/uploads/2019/10/69
 997_image_71300155_10157269642255520_1765382217518809088_o.jpg
CATEGORIES:pomorskie
LOCATION:B90\, Elektryków\, Gdansk\, 80-863\, Poland
GEO:54.36461;18.648686
X-APPLE-STRUCTURED-LOCATION;VALUE=URI;X-ADDRESS=Elektryków\, Gdansk\, 80-8
 63\, Poland;X-APPLE-RADIUS=100;X-TITLE=B90:geo:54.36461,18.648686
END:VEVENT
BEGIN:VTIMEZONE
TZID:Europe/Warsaw
X-LIC-LOCATION:Europe/Warsaw
BEGIN:DAYLIGHT
DTSTART:20190331T030000
TZOFFSETFROM:+0100
TZOFFSETTO:+0200
TZNAME:CEST
END:DAYLIGHT
END:VTIMEZONE
END:VCALENDAR