BEGIN:VCALENDAR
VERSION:2.0
PRODID:-//wp-events-plugin.com//7.2.3.1//EN
TZID:Europe/Warsaw
X-WR-TIMEZONE:Europe/Warsaw
BEGIN:VEVENT
UID:34071@night4u.pl
DTSTART;TZID=Europe/Warsaw:20191102T210000
DTEND;TZID=Europe/Warsaw:20191103T050000
DTSTAMP:20200401T081751Z
URL:https://night4u.pl/wydarzenia/polskie-klasyki-noca-lista-fb-dj-mlodzia
 k/
SUMMARY:Polskie Klasyki Nocą /Lista FB/ Dj Młodziak
DESCRIPTION:Prasujemy najlepsze koszule\, by zachlapać je alkoholem i wymi
 ętosić w szalonych tańcach. Przewidujemy zorganizować Wam sobotę w i
 ście polskim stylu. Jednak jeśli chodzi o oprawę zwłaszcza muzyczno-ba
 rową nieco klasyczne formy uskutecznimy.\n\nJeśli zastanawiasz się jak 
 będzie to odpowiedzi jest jedna - NAJLEPIEJ! .  \n\nZagra nam Dj Młodzia
 k\, więc o muzykę nie musicie się martwić. \nNa barze promocje\, będz
 ie zdecydowanie najlepiej!\n______________________________________________
 \n\nStart 21:00\nKlub zastrzega sobie prawo do selekcji gości +18.\n_____
 _________________________________________\n\nW ofercie dla Was tego wieczo
 ra mamy:\nWjazd na imprezę za darmo dla wszystkich z listy FB którzy zja
 wią się do godziny 23.00 / \nPo 23 i spoza listy 10 zł\nListę zamykamy
  o 20!\n\n\nKliknij "wezmę udział" bo "zainteresowaną/ym" to można by
 ć co najwyżej kolejną kolejką przy barze.\nMuzykę zagrają nam DJ Mar
 sel i DJ Młodziak\n______________________________________________\nZnajd
 ź nas również na:\nSnapchat: silence_club || Instagram: @silenceclub\n\
 n\n02.11.2019\nSilenceClub\nRadziszewskiego 8\nLublin
ATTACH;FMTTYPE=image/jpeg:https://night4u.pl/wp-content/uploads/2019/10/87
 079_image_74385186_3408554212502897_8179756784211197952_o.jpg
CATEGORIES:lubelskie
LOCATION:SilenceClub\, Radziszewskiego 8\, Lublin\, 20-031\, Poland
GEO:51.246457;22.543797
X-APPLE-STRUCTURED-LOCATION;VALUE=URI;X-ADDRESS=Radziszewskiego 8\, Lublin\
 , 20-031\, Poland;X-APPLE-RADIUS=100;X-TITLE=SilenceClub:geo:51.246457,22.
 543797
END:VEVENT
BEGIN:VTIMEZONE
TZID:Europe/Warsaw
X-LIC-LOCATION:Europe/Warsaw
BEGIN:STANDARD
DTSTART:20191027T020000
TZOFFSETFROM:+0200
TZOFFSETTO:+0100
TZNAME:CET
END:STANDARD
END:VTIMEZONE
END:VCALENDAR