BEGIN:VCALENDAR
VERSION:2.0
PRODID:-//wp-events-plugin.com//7.2.3.1//EN
TZID:Europe/Warsaw
X-WR-TIMEZONE:Europe/Warsaw
BEGIN:VEVENT
UID:34398@night4u.pl
DTSTART;TZID=Europe/Warsaw:20191115T220000
DTEND;TZID=Europe/Warsaw:20191116T050000
DTSTAMP:20191116T002650Z
URL:https://night4u.pl/wydarzenia/polskie-nagrania-ya-neck/
SUMMARY:Polskie nagrania / Ya- neck
DESCRIPTION:Zapraszamy na POLSKIE NAGRANIA całą noc!\nRAP 🌷 POP 🌷 R
 OCK 🌷 ELEKTRONIKA\nRozmaitą polską muzykę rozrywkową zagra dla Was:
 \n⭐️ YA- NECK ⭐️ \n\nThe Dumplings\, Xxanaxx\, Agnieszka Chylińsk
 a\, Maanam\, The Very Polish cut-outs\, Taco Hamingway\, Czesław Niemen\,
  Maryla Rodowicz\, Kult\, Dawid Podsiadło\, Perfect\, Kombii\, Vavamuffin
 \, Chonabibe\, Kazik\, Budka Suflera\, Molesta\, Ania Dąbrowska\, Kayah\,
  Justyna Steczkowska\, Organek\, Krzysztof Zalewski\, Maria Peszek\, Rasme
 ntalism\, Marek Grechuta\, Ewa Bem\, Kamp!\, Reni Jusis\, Fisz Emade\, Lad
 y Pank\, Junior Stress\, Republika\, Chłopcy z Placu Broni\, Rebeka\, Wil
 ki\, Artur Rojek\, Andrzej Zaucha\, Breakout\, Hey\, T Love i inni..\n\nst
 art 22 / fb free do 23 / 15zł\n+21\n\n@ REZERWACJE @\nWszystkie informacj
 e dotyczące rezerwacji:\n601-529-515
ATTACH;FMTTYPE=image/jpeg:https://night4u.pl/wp-content/uploads/2019/11/88
 776_image_74794087_2675460555853231_2889624756611448832_o.jpg
CATEGORIES:lubelskie
LOCATION:Dom Kultury\, ul. Krakowskie Przedmieście 19\, Lublin\, 20-002\, 
 Poland
GEO:51.24787;22.56342
X-APPLE-STRUCTURED-LOCATION;VALUE=URI;X-ADDRESS=ul. Krakowskie Przedmieści
 e 19\, Lublin\, 20-002\, Poland;X-APPLE-RADIUS=100;X-TITLE=Dom Kultury:geo
 :51.24787,22.56342
END:VEVENT
BEGIN:VTIMEZONE
TZID:Europe/Warsaw
X-LIC-LOCATION:Europe/Warsaw
BEGIN:STANDARD
DTSTART:20191027T020000
TZOFFSETFROM:+0200
TZOFFSETTO:+0100
TZNAME:CET
END:STANDARD
END:VTIMEZONE
END:VCALENDAR