BEGIN:VCALENDAR
VERSION:2.0
PRODID:-//wp-events-plugin.com//7.2.3.1//EN
TZID:Europe/Warsaw
X-WR-TIMEZONE:Europe/Warsaw
BEGIN:VEVENT
UID:34694@night4u.pl
DTSTART;TZID=Europe/Warsaw:20191109T210000
DTEND;TZID=Europe/Warsaw:20191110T050000
DTSTAMP:20200401T084805Z
URL:https://night4u.pl/wydarzenia/polskie-wesele-z-adamem-krasko-lista-fb/
SUMMARY:Polskie Wesele z Adamem Kraśko! /Lista FB/
DESCRIPTION:Jeśli sobota to tylko -  POLSKIE WESELE w SILENCE CLUB!\n\nJak
  każdy wie\, polskie wesela to najlepsze imprezy\, postanowiliśmy więc 
 po raz kolejny zaprosić w nasze progi Parę Młodą\, dobrą muzykę i Bi
 esiadników!\n\nTym razem mamy dla Was ogromną niespodziankę\, na sobot
 ę zapowiedział się gość honorowy!\nRolnik szukający żony\, Adam Kra
 śko potwierdził swoją obecność! Mamy też dla Was krótką wiadomoś
 ć od tego Jegomościa!\n"Czy jest tu jakaś żona dla rolnika? \nJeśli t
 ak\, to zapraszam kandydatki na mój show w SilenceClub! \nBędę śpiewa
 ł\, rzucał muszką i szukał kopciuszka – bo mam tu taki zgrabny bucik
  dla mojej księżniczki 🙂 a potem razem odjedziemy na rowerze Wigry 3!
  \nPrzybywajcie w sobotę na Radziszewskiego 8 do klubu SielenceClub w Lub
 linie. Startujemy o 21!   \n\nSpragnionych przywita bar szybkimi szotami d
 obrze zmrożonej substancji\, w asortymencie będą też wyszukane drinki 
 i koktajle!\n\nW tajemnicy zdradzimy\, że znajdziecie u nas eleganckich p
 anów i przepiękne kobiety\, więc jak przyjdzie miłość\, wnukom nie w
 styd będzie opowiadać gdzie się poznaliście. :D\n\nSzykujcie się\, to
  będzie solidna impreza!\n\n- Młoda Para \n- Stół Wiejski \n- Fotobudk
 a \n- Tort \n- Gość w postaci Adama Kraśko i wiele innych...   \n______
 __________________________________________\n\nStart 21:00\nKlub zastrzega 
 sobie prawo do selekcji gości +18.\n_____________________________________
 ___________\n\nOBOWIĄZUJE WESELNY DRESSCODE\n\nWejście FB FREE do 22:00\
 nPo 22 i spoza listy 10 zł student\, 15 zł pozostali. \nListę zamykamy 
 o 20:00 w dniu imprezy! \n\nKliknij "wezmę udział" bo "zainteresowaną/y
 m" to można być co najwyżej kolejną kolejką przy barze.\n\nNA IMPREZI
 E GOŚCIEM HONOROWYM BĘDZIE ADAM KRAŚKO (Rolnik szuka żony)\n__________
 ______________________________________\n09.11.2019 (Sobota)\nSilenceClub\n
 Radziszewskiego 8\nLublin
ATTACH;FMTTYPE=image/jpeg:https://night4u.pl/wp-content/uploads/2019/11/90
 296_image_74182135_3423911937633791_7783047207883636736_o.jpg
CATEGORIES:lubelskie
LOCATION:SilenceClub\, Radziszewskiego 8\, Lublin\, 20-031\, Poland
GEO:51.246457;22.543797
X-APPLE-STRUCTURED-LOCATION;VALUE=URI;X-ADDRESS=Radziszewskiego 8\, Lublin\
 , 20-031\, Poland;X-APPLE-RADIUS=100;X-TITLE=SilenceClub:geo:51.246457,22.
 543797
END:VEVENT
BEGIN:VTIMEZONE
TZID:Europe/Warsaw
X-LIC-LOCATION:Europe/Warsaw
BEGIN:STANDARD
DTSTART:20191027T020000
TZOFFSETFROM:+0200
TZOFFSETTO:+0100
TZNAME:CET
END:STANDARD
END:VTIMEZONE
END:VCALENDAR