BEGIN:VCALENDAR
VERSION:2.0
PRODID:-//wp-events-plugin.com//7.2.3.1//EN
TZID:Europe/Warsaw
X-WR-TIMEZONE:Europe/Warsaw
BEGIN:VEVENT
UID:28610@night4u.pl
DTSTART;TZID=Europe/Warsaw:20191005T210000
DTEND;TZID=Europe/Warsaw:20191006T050000
DTSTAMP:20191011T070017Z
URL:https://night4u.pl/wydarzenia/polskie-wesele-zespol-solaris-lista-fb-2
 /
SUMMARY:Polskie Wesele /zespół: Solaris/ /Lista FB/
DESCRIPTION:Po wakacyjnej przerwie sobotnie Polskie Wesela wracają z pełn
 ą mocą! \nŻeby było najlepiej specjalnie dla Was tej nocy zagra zespó
 ł SOLARIS - twórcy hitu: "Szmaragdy i Diamenty" \n\nWszystkie obowiązko
 we elementy będą u nas miały swoje miejsce!\nSchłodzona wódeczka\, pa
 ra młoda\, wiejski stół\,  wspaniała muzyka oraz niezapomniana atmosfe
 ra.\n\nZabawmy się tej nocy\, jak nie bawił się nikt!\nPanowie prasujem
 y koszule\, Panie wkładamy szpilki i ruszamy na WESELE! \n_______________
 _________________________________\n\nStart 21:00\nKlub zastrzega sobie pra
 wo do selekcji gości +18.\n______________________________________________
 __\n\nOBOWIĄZUJE WESELNY DRESSCODE\n\nWejście:\nLista FB do 22 wejście 
 free.\nPo 22 cena biletu wynosi: Studenci 10 zł / Pozostali 15 zł. \n\nU
 słyszymy muzykę na żywo w wykonaniu zespołu SOLARIS!\n\nKliknij "wezm
 ę udział" bo "zainteresowaną/ym" to można być co najwyżej kolejną k
 olejką przy barze.\n\n________________________________________________\n\
 nZnajdź nas również na:\nSnapchat: silence_club || Instagram: @silencec
 lub\n\n\n05.10.2019r. (Sobota)\nSilenceClub\nRadziszewskiego 8\nLublin
ATTACH;FMTTYPE=image/jpeg:https://night4u.pl/wp-content/uploads/2019/09/66
 213_image_71146372_3296034000421586_2156279491914104832_o.jpg
CATEGORIES:lubelskie
LOCATION:SilenceClub\, Radziszewskiego 8\, Lublin\, 20-031\, Poland
GEO:51.246457;22.543797
X-APPLE-STRUCTURED-LOCATION;VALUE=URI;X-ADDRESS=Radziszewskiego 8\, Lublin\
 , 20-031\, Poland;X-APPLE-RADIUS=100;X-TITLE=SilenceClub:geo:51.246457,22.
 543797
END:VEVENT
BEGIN:VTIMEZONE
TZID:Europe/Warsaw
X-LIC-LOCATION:Europe/Warsaw
BEGIN:DAYLIGHT
DTSTART:20190331T030000
TZOFFSETFROM:+0100
TZOFFSETTO:+0200
TZNAME:CEST
END:DAYLIGHT
END:VTIMEZONE
END:VCALENDAR