BEGIN:VCALENDAR
VERSION:2.0
PRODID:-//wp-events-plugin.com//7.2.3.1//EN
TZID:Europe/Warsaw
X-WR-TIMEZONE:Europe/Warsaw
BEGIN:VEVENT
UID:15232@night4u.pl
DTSTART;TZID=Europe/Warsaw:20190531T220000
DTEND;TZID=Europe/Warsaw:20190601T050000
DTSTAMP:20190507T203927Z
URL:https://night4u.pl/wydarzenia/pomaturalne-jacobs-party-afterbeng/
SUMMARY:Pomaturalne ~ Jacob's Party Afterbeng
DESCRIPTION:Szczegóły wkrótce.
ATTACH;FMTTYPE=image/jpeg:https://night4u.pl/wp-content/uploads/2019/05/37
 644_image_59836809_347123049341596_2131633668194566144_n.jpg
CATEGORIES:małopolskie
LOCATION:Projekt 012\, Kraków\, Poland
GEO:50.06284;19.93713
X-APPLE-STRUCTURED-LOCATION;VALUE=URI;X-ADDRESS=Kraków\, Poland;X-APPLE-RA
 DIUS=100;X-TITLE=Projekt 012:geo:50.06284,19.93713
END:VEVENT
BEGIN:VTIMEZONE
TZID:Europe/Warsaw
X-LIC-LOCATION:Europe/Warsaw
BEGIN:DAYLIGHT
DTSTART:20190331T030000
TZOFFSETFROM:+0100
TZOFFSETTO:+0200
TZNAME:CEST
END:DAYLIGHT
END:VTIMEZONE
END:VCALENDAR