BEGIN:VCALENDAR
VERSION:2.0
PRODID:-//wp-events-plugin.com//7.2.3.1//EN
TZID:Europe/Warsaw
X-WR-TIMEZONE:Europe/Warsaw
BEGIN:VEVENT
UID:19984@night4u.pl
DTSTART;TZID=Europe/Warsaw:20190812T140000
DTEND;TZID=Europe/Warsaw:20190813T020000
DTSTAMP:20190621T201410Z
URL:https://night4u.pl/wydarzenia/poniedzialkowy-aperoltime-w-magazynie-2-
 za-1-6/
SUMMARY:Poniedziałkowy #AperolTime w Magazynie | 2 za 1
DESCRIPTION:#AperolTime w Magazynie!!\nZapraszamy na poniedziałkowe chill'
 owanie przy Aperol Spritz!\n\nDwa koktajle Aperol Spritz w cenie jednego! 
 \n\nWeźcie ze sobą znajomych bo:\nza dwa Aperole płacicie tylko 18 zł\
 , za cztery Aperole 36 zł \ni tak dalej...
ATTACH;FMTTYPE=image/jpeg:https://night4u.pl/wp-content/uploads/2019/06/48
 082_image_64389320_1271883509646660_3675600898446327808_o.jpg
CATEGORIES:śląskie
LOCATION:Magazyn - Cocktail Bar Mariacka\, Katowice\, Poland
GEO:50.25754;19.02685
X-APPLE-STRUCTURED-LOCATION;VALUE=URI;X-ADDRESS=Katowice\, Poland;X-APPLE-R
 ADIUS=100;X-TITLE=Magazyn - Cocktail Bar Mariacka:geo:50.25754,19.02685
END:VEVENT
BEGIN:VTIMEZONE
TZID:Europe/Warsaw
X-LIC-LOCATION:Europe/Warsaw
BEGIN:DAYLIGHT
DTSTART:20190331T030000
TZOFFSETFROM:+0100
TZOFFSETTO:+0200
TZNAME:CEST
END:DAYLIGHT
END:VTIMEZONE
END:VCALENDAR