BEGIN:VCALENDAR
VERSION:2.0
PRODID:-//wp-events-plugin.com//7.2.3.1//EN
TZID:Europe/Warsaw
X-WR-TIMEZONE:Europe/Warsaw
BEGIN:VEVENT
UID:18963@night4u.pl
DTSTART;TZID=Europe/Warsaw:20190615T210000
DTEND;TZID=Europe/Warsaw:20190616T050000
DTSTAMP:20190611T180510Z
URL:https://night4u.pl/wydarzenia/pop-art-sobota-15-06-impreza-tematyczna/
SUMMARY:Pop Art // Sobota 15.06 // Impreza Tematyczna
DESCRIPTION:15 czerwca\, czyli to już prawie wakacje! Dzieciaków z nami n
 ie będzie\, jednak my pobawimy się w stylu komiksowym - a co! Przecież 
 w każdym z nas jest trochę z dziecka \;) To będzie kolejna wyjątkowa i
 mpreza tematyczna 
ATTACH;FMTTYPE=image/jpeg:https://night4u.pl/wp-content/uploads/2019/06/45
 867_image_62311392_2103357469957159_8546342297443237888_o.jpg
CATEGORIES:lubelskie
LOCATION:Klub30 Lublin\, Lublin\, Poland
GEO:51.249038;22.552872
X-APPLE-STRUCTURED-LOCATION;VALUE=URI;X-ADDRESS=Lublin\, Poland;X-APPLE-RAD
 IUS=100;X-TITLE=Klub30 Lublin:geo:51.249038,22.552872
END:VEVENT
BEGIN:VTIMEZONE
TZID:Europe/Warsaw
X-LIC-LOCATION:Europe/Warsaw
BEGIN:DAYLIGHT
DTSTART:20190331T030000
TZOFFSETFROM:+0100
TZOFFSETTO:+0200
TZNAME:CEST
END:DAYLIGHT
END:VTIMEZONE
END:VCALENDAR