BEGIN:VCALENDAR
VERSION:2.0
PRODID:-//wp-events-plugin.com//7.2.3.1//EN
TZID:Europe/Warsaw
X-WR-TIMEZONE:Europe/Warsaw
BEGIN:VEVENT
UID:38348@night4u.pl
DTSTART;TZID=Europe/Warsaw:20191205T210000
DTEND;TZID=Europe/Warsaw:20191206T030000
DTSTAMP:20200401T082118Z
URL:https://night4u.pl/wydarzenia/pop-karaoke-x-edycja-mikolajkowa-5-12/
SUMMARY:Pop &amp\; Karaoke x edycja Mikołajkowa | 5.12
DESCRIPTION:Kochani z uwagi na zbliżające się Mikołajki mamy dla Was ci
 ekawe promocje\, prezenty :-) \n* do północy lejemy wszystkie alkohole 2
  w cenie 1\nw konkursie karaoke do wygrania: \n* kilka biletów Sylwestrow
 ych (Sylwester | 31.12)\n* kilka Kart Klubowych \n* butelka pysznej wódec
 zki \n\nPo północy: \nPiwo lane Okocim 0\,5l/7zł\nŻubrówka biała 40m
 l/7zł\nSoplica (smaki) 40ml/7zł\n+ \;-) \n\nKaraoke poprowadzi: Salomea\
 nZagra: T-Jay\n__________\nStart imprezy godzina 21:00\nWstęp bezpłatny 
 przez całą noc  \n\nClub Papuga\nul. Dietla 64
ATTACH;FMTTYPE=image/jpeg:https://night4u.pl/wp-content/uploads/2019/12/10
 9657_image_78954679_434677560552809_3827460990593662976_n.jpg
CATEGORIES:małopolskie
LOCATION:Club Papuga\, Józefa Dietla 64\, Kraków\, 33-332\, Poland
GEO:50.054521;19.943522
X-APPLE-STRUCTURED-LOCATION;VALUE=URI;X-ADDRESS=Józefa Dietla 64\, Kraków
 \, 33-332\, Poland;X-APPLE-RADIUS=100;X-TITLE=Club Papuga:geo:50.054521,19
 .943522
END:VEVENT
BEGIN:VTIMEZONE
TZID:Europe/Warsaw
X-LIC-LOCATION:Europe/Warsaw
BEGIN:STANDARD
DTSTART:20191027T020000
TZOFFSETFROM:+0200
TZOFFSETTO:+0100
TZNAME:CET
END:STANDARD
END:VTIMEZONE
END:VCALENDAR