BEGIN:VCALENDAR
VERSION:2.0
PRODID:-//wp-events-plugin.com//7.2.3.1//EN
TZID:Europe/Warsaw
X-WR-TIMEZONE:Europe/Warsaw
BEGIN:VEVENT
UID:2574@night4u.pl
DTSTART;TZID=Europe/Warsaw:20190126T220000
DTEND;TZID=Europe/Warsaw:20190127T050000
DTSTAMP:20190105T144308Z
URL:https://night4u.pl/wydarzenia/pop-lokal-saturdays-x-where2b-list-4/
SUMMARY:POP! | LOKAL Saturdays x where2B List
DESCRIPTION:--ENGLISH VERSION BELOW--\n\nPOPłyń w sobotę w LOKALu! POP!\
 , to tygiel parkietowych petard\, świetnego towarzystwa i wysmakowanych d
 rinków\, który przeniesie Cię w kolejny wymiar nieskrępowanej zabawy.\
 n\nLISTA FB: Wejście za darmo do godz. 23:00\nLISTA where2B.org: Wejście
  za darmo do godz. 1:00 + promo menu całą noc: \nBacardi + Pepsi 15 zł\
 nWhisky + Pepsi 15 zł\nWódka + Soft 15 zł\n——> https://www.where2b.
 org/event/76491    \n\nPokaż pieczątkę / opaskę w barze przed złożen
 iem zamówienia. \n\nZarezerwuj stolik z butelką wódki. Kontakt: krakow@
 where2B\, 536 90 75 80\, FB: where2B Kraków\n\n--ENGLISH VERSION--\nOne o
 f the most POPular Saturday club-night in Cracow. 2 dacefloors full of loc
 al people and well-known hits. 3 bars with discount prices on drinks. Unli
 mited fun till Sunday morning. \n\nFB LIST: Free entrance until 23:00\nwhe
 re2B.org LIST: Free entrance until 1:00 + promo menu all night long: \nBac
 ardi + Pepsi 15 zł\nWhisky + Pepsi 15 zł\nVodka + Soft 15 zł\n——> h
 ttps://www.where2b.org/event/76491  \n\nShow the stamp or wristband before
  order.\n\nReserve a table with bottle of vodka. Contact: krakow@where2B.o
 rg\, +48 536 90 75 80\, FB: where2B Kraków\n\nView the event gallery when
  the organizer ads images/Zobacz galerię kiedy organizator doda zdjęcia:
  www.where2b.org/album/850045
ATTACH;FMTTYPE=image/jpeg:https://night4u.pl/wp-content/uploads/2019/01/92
 58_image_48357778_1265968760236826_658427686296748032_o.jpg
CATEGORIES:małopolskie
LOCATION:LOKAL Krakow\, Rynek Główny 6\, Kraków\, 31-042\, Poland
GEO:50.06105;19.93836
X-APPLE-STRUCTURED-LOCATION;VALUE=URI;X-ADDRESS=Rynek Główny 6\, Kraków\
 , 31-042\, Poland;X-APPLE-RADIUS=100;X-TITLE=LOKAL Krakow:geo:50.06105,19.
 93836
END:VEVENT
BEGIN:VTIMEZONE
TZID:Europe/Warsaw
X-LIC-LOCATION:Europe/Warsaw
BEGIN:STANDARD
DTSTART:20181028T020000
TZOFFSETFROM:+0200
TZOFFSETTO:+0100
TZNAME:CET
END:STANDARD
END:VTIMEZONE
END:VCALENDAR