BEGIN:VCALENDAR
VERSION:2.0
PRODID:-//wp-events-plugin.com//7.2.3.1//EN
TZID:Europe/Warsaw
X-WR-TIMEZONE:Europe/Warsaw
BEGIN:VEVENT
UID:2094@night4u.pl
DTSTART;TZID=Europe/Warsaw:20190105T220000
DTEND;TZID=Europe/Warsaw:20190106T050000
DTSTAMP:20190101T212414Z
URL:https://night4u.pl/wydarzenia/pop-lokal-saturdays-x-where2b-list/
SUMMARY:POP! | LOKAL Saturdays x where2B List
DESCRIPTION:Chcesz wziąć udział w tym wydarzeniu? Świetnie! Zapisz się
  w Aplikacji Mobilnej where2B lub na https://www.where2b.org/event/76488\n
 \n--ENGLISH VERSION BELOW--\n\nPOPłyń w sobotę w LOKALu! POP!\, to tygi
 el parkietowych petard\, świetnego towarzystwa i wysmakowanych drinków\,
  który przeniesie Cię w kolejny wymiar nieskrępowanej zabawy.\n\nPij od
 powiedzialnie\, dopisz się do listy na where2B.org\, żeby wejść za dar
 mo do godz. 1:00 i korzystać z promo menu całą noc: \nBacardi + Pepsi 1
 5 zł\nWhisky + Pepsi 15 zł\nWódka + Soft 15 zł\n\nPokaż pieczątkę /
  opaskę w barze przed złożeniem zamówienia. \n\nZarezerwuj stolik z bu
 telką wódki. Kontakt: krakow@where2B\, 536 90 75 80\, FB: where2B Krakó
 w\n\n--ENGLISH VERSION--\nOne of the most POPular Saturday club-night in C
 racow. 2 dacefloors full of local people and well-known hits. 3 bars with 
 discount prices on drinks. Unlimited fun till Sunday morning. \n\nSing up 
 on where2B list to get free entrance till 1:00 and bar specials all night 
 long: \nBacardi + Pepsi 15 zł\nWhisky + Pepsi 15 zł\nVodka + Soft 15 zł
 \n\nShow the stamp or wristband before order.\n\nReserve a table with bott
 le of vodka. Contact: krakow@where2B.org\, +48 536 90 75 80\, FB: where2B 
 Kraków\n\nView the event gallery when the organizer ads images/Zobacz gal
 erię kiedy organizator doda zdjęcia: www.where2b.org/album/850042
ATTACH;FMTTYPE=image/jpeg:https://night4u.pl/wp-content/uploads/2019/01/82
 22_image_48420850_1265965366903832_2807790717496197120_o.jpg
CATEGORIES:małopolskie
LOCATION:LOKAL Krakow\, Rynek Główny 6\, Kraków\, 31-042\, Poland
GEO:50.06105;19.93836
X-APPLE-STRUCTURED-LOCATION;VALUE=URI;X-ADDRESS=Rynek Główny 6\, Kraków\
 , 31-042\, Poland;X-APPLE-RADIUS=100;X-TITLE=LOKAL Krakow:geo:50.06105,19.
 93836
END:VEVENT
BEGIN:VTIMEZONE
TZID:Europe/Warsaw
X-LIC-LOCATION:Europe/Warsaw
BEGIN:STANDARD
DTSTART:20181028T020000
TZOFFSETFROM:+0200
TZOFFSETTO:+0100
TZNAME:CET
END:STANDARD
END:VTIMEZONE
END:VCALENDAR