BEGIN:VCALENDAR
VERSION:2.0
PRODID:-//wp-events-plugin.com//7.2.3.1//EN
TZID:Europe/Warsaw
X-WR-TIMEZONE:Europe/Warsaw
BEGIN:VEVENT
UID:38758@night4u.pl
DTSTART;TZID=Europe/Warsaw:20211008T210000
DTEND;TZID=Europe/Warsaw:20211008T230000
DTSTAMP:20210908T144736Z
URL:https://night4u.pl/wydarzenia/poparzeni-kawa-trzy-club-muzyczny-barka-
 w-pile/
SUMMARY:Poparzeni Kawą Trzy Club Barka
DESCRIPTION:Bilety zachowują ważność!
ATTACH;FMTTYPE=image/jpeg:https://night4u.pl/wp-content/uploads/2020/03/11
 1354_image_89472550_3623316747709820_833879840527482880_n.jpg
CATEGORIES:wielkopolskie
LOCATION:Club Barka Pila\, ul. Wodna - rzeka Gwda\, Piła\, 64-920\, Poland
GEO:53.152085;16.738529
X-APPLE-STRUCTURED-LOCATION;VALUE=URI;X-ADDRESS=ul. Wodna - rzeka Gwda\, Pi
 ła\, 64-920\, Poland;X-APPLE-RADIUS=100;X-TITLE=Club Barka Pila:geo:53.15
 2085,16.738529
END:VEVENT
BEGIN:VTIMEZONE
TZID:Europe/Warsaw
X-LIC-LOCATION:Europe/Warsaw
BEGIN:DAYLIGHT
DTSTART:20210328T030000
TZOFFSETFROM:+0100
TZOFFSETTO:+0200
TZNAME:CEST
END:DAYLIGHT
END:VTIMEZONE
END:VCALENDAR