BEGIN:VCALENDAR
VERSION:2.0
PRODID:-//wp-events-plugin.com//7.2.3.1//EN
TZID:Europe/Warsaw
X-WR-TIMEZONE:Europe/Warsaw
BEGIN:VEVENT
UID:24483@night4u.pl
DTSTART;TZID=Europe/Warsaw:20190815T210000
DTEND;TZID=Europe/Warsaw:20190816T040000
DTSTAMP:20190809T215522Z
URL:https://night4u.pl/wydarzenia/popek-na-zywo-last-night-in-mielno-konce
 rt-live-15-08/
SUMMARY:Popek Na Żywo ! Last Night In Mielno ! Koncert Live ! 15.08
DESCRIPTION:Ostatnia Noc Popka W Mielnie ❗\nKONCERT LIVE ! GRAMY DO BIAŁ
 EGO RANA !
ATTACH;FMTTYPE=image/jpeg:https://night4u.pl/wp-content/uploads/2019/08/57
 619_image_67777747_2511730188847824_3603130201568968704_n.jpg
CATEGORIES:zachodniopomorskie
LOCATION:Arena Club Mielno\, Chrobrego 32\, Mielno Koszalinskie\, 76-032\, 
 Poland
GEO:54.261259;16.069495
X-APPLE-STRUCTURED-LOCATION;VALUE=URI;X-ADDRESS=Chrobrego 32\, Mielno Kosza
 linskie\, 76-032\, Poland;X-APPLE-RADIUS=100;X-TITLE=Arena Club Mielno:geo
 :54.261259,16.069495
END:VEVENT
BEGIN:VTIMEZONE
TZID:Europe/Warsaw
X-LIC-LOCATION:Europe/Warsaw
BEGIN:DAYLIGHT
DTSTART:20190331T030000
TZOFFSETFROM:+0100
TZOFFSETTO:+0200
TZNAME:CEST
END:DAYLIGHT
END:VTIMEZONE
END:VCALENDAR