BEGIN:VCALENDAR
VERSION:2.0
PRODID:-//wp-events-plugin.com//7.2.3.1//EN
TZID:Europe/Warsaw
X-WR-TIMEZONE:Europe/Warsaw
BEGIN:VEVENT
UID:22955@night4u.pl
DTSTART;TZID=Europe/Warsaw:20190814T180000
DTEND;TZID=Europe/Warsaw:20190814T235900
DTSTAMP:20190724T170147Z
URL:https://night4u.pl/wydarzenia/potancowka-na-tarasie/
SUMMARY:Potańcówka Na Tarasie
DESCRIPTION:Potańcówka Na Tarasie\, miksuje Dj Martines\n\nData: 14.08 (
 środa)\nStart: godz 18:00\nNa Tarasie 3 piętro Galeria MM\nWstęp bezpł
 atny\n\nTańce\, hulańce\, swawole \nGramy tylko taneczne hity wszechczas
 ów \, czyli to co lubicie najbardziej ?\nO muzyczny miks zadba wieloletni
  rezydent Klub Kosmos Poznań\, czyli Dj Matines.\nNastępny dzień jest w
 olny od pracy\, więc dacie odpocząć nóżkom po tańcach ?
ATTACH;FMTTYPE=image/jpeg:https://night4u.pl/wp-content/uploads/2019/07/54
 248_image_67403580_882421585448159_4632699669909078016_n.jpg
CATEGORIES:wielkopolskie
LOCATION:Na Tarasie\, Święty Marcin 24\, Poznan\, 61-248\, Poland
GEO:52.407105;16.928558
X-APPLE-STRUCTURED-LOCATION;VALUE=URI;X-ADDRESS=Święty Marcin 24\, Poznan
 \, 61-248\, Poland;X-APPLE-RADIUS=100;X-TITLE=Na Tarasie:geo:52.407105,16.
 928558
END:VEVENT
BEGIN:VTIMEZONE
TZID:Europe/Warsaw
X-LIC-LOCATION:Europe/Warsaw
BEGIN:DAYLIGHT
DTSTART:20190331T030000
TZOFFSETFROM:+0100
TZOFFSETTO:+0200
TZNAME:CEST
END:DAYLIGHT
END:VTIMEZONE
END:VCALENDAR