BEGIN:VCALENDAR
VERSION:2.0
PRODID:-//wp-events-plugin.com//7.2.3.1//EN
TZID:Europe/Warsaw
X-WR-TIMEZONE:Europe/Warsaw
BEGIN:VEVENT
UID:3689@night4u.pl
DTSTART;TZID=Europe/Warsaw:20190206T200000
DTEND;TZID=Europe/Warsaw:20190206T220000
DTSTAMP:20190116T101536Z
URL:https://night4u.pl/wydarzenia/poznan-u-jacka-blazej-krajewski-komedia-
 pomylek/
SUMMARY:Poznań u Jacka: Błażej Krajewski "Komedia Pomyłek"
DESCRIPTION:Dzień dobry! Z tej strony Jacek Stramik! Zapraszam na cykl wie
 czorów stand-upowych\, które będę miał przyjemność raz w miesiącu 
 prowadzić w pięknej i urokliwej Stolicy Wielkopolski.  \n\nPoznań u Jac
 ka! Choć świat jest okrutny dla wszystkich\, to w ramach mojego cyklu za
 rządzam jedną zasadę: nie smucimy konia! Dziękuję za uwagę i zachęc
 am do wspólnej zabawy.\n\nPierwszym gościem cyklu „Poznań u Jacka” 
 będzie:\nBłażej Krajewski - komik z Bydgoszczy\, na scenie od 2013 roku
 . Zwycięzca II poznańskiego festiwalu stand-up oraz zwycięzca pierwszej
  wrocławskiej bitwy stand-upperów. Przez lata pasjonował się dubbingie
 m. Dzięki temu zyskał umiejętność imitowania głosów wielu znanych p
 ostaci. Niestety jest jeden głos\, którego nie potrafi naśladować. Gł
 os syna\, z którego rodzice są zadowoleni.\n\n\n\nsupport: Maks Padalak.
 \n\n07.02.2019  godz. 20:00	\n9stóp Akademickie Centrum Kultury i Sportu 
 \nul. Piątkowska 92\, Poznań\n\n----------------------------------------
 ---------\nBilety: \n30 zł w przedsprzedaży - dostępne na biletyna.pl o
 raz na KupBilecik.pl\n\n40zł w dniu występu - dostępne przy wejściu \n
 \nhttps://biletyna.pl/stand-up/Stand-up-Blazej-Krajewski-premiera-nowego-m
 aterialu/Poznan\n\n\nZakup biletu oznacza pełną akceptację regulaminu u
 działu w występie (dostępny na evenementimpresariat.pl) \n-------------
 -------------------------------------\nWystęp przeznaczony dla osób doro
 słych.
ATTACH;FMTTYPE=image/jpeg:https://night4u.pl/wp-content/uploads/2019/01/11
 595_image_49946697_275872979774573_7423436111654944768_o.jpg
CATEGORIES:wielkopolskie
LOCATION:Klub 9stóp\, Piątkowska 92\, Poznan\, 60-649\, Poland
GEO:52.429505;16.917341
X-APPLE-STRUCTURED-LOCATION;VALUE=URI;X-ADDRESS=Piątkowska 92\, Poznan\, 6
 0-649\, Poland;X-APPLE-RADIUS=100;X-TITLE=Klub 9stóp:geo:52.429505,16.917
 341
END:VEVENT
BEGIN:VTIMEZONE
TZID:Europe/Warsaw
X-LIC-LOCATION:Europe/Warsaw
BEGIN:STANDARD
DTSTART:20181028T020000
TZOFFSETFROM:+0200
TZOFFSETTO:+0100
TZNAME:CET
END:STANDARD
END:VTIMEZONE
END:VCALENDAR