BEGIN:VCALENDAR
VERSION:2.0
PRODID:-//wp-events-plugin.com//7.2.3.1//EN
TZID:Europe/Warsaw
X-WR-TIMEZONE:Europe/Warsaw
BEGIN:VEVENT
UID:50133@night4u.pl
DTSTART;TZID=Europe/Warsaw:20200321T213000
DTEND;TZID=Europe/Warsaw:20200322T030000
DTSTAMP:20200312T003829Z
URL:https://night4u.pl/wydarzenia/prawy-do-lewego-wypij-kolego-4/
SUMMARY:Prawy do lewego\, wypij kolego
DESCRIPTION:Kolejna niezapomniana noc przed nami\,🌠 wpraszajcie sie wszy
 scy\, którzy chcą sie świetnie bawić przy dobrych starych kawałkach 
 💃🕺
ATTACH;FMTTYPE=image/jpeg:https://night4u.pl/wp-content/uploads/2020/03/17
 5169_image_89769553_515683342476104_3867368435138691072_n.jpg
CATEGORIES:podlaskie
LOCATION:Weselny Klimat\, Białystok\, Poland
GEO:53.13176;23.17185
X-APPLE-STRUCTURED-LOCATION;VALUE=URI;X-ADDRESS=Białystok\, Poland;X-APPLE
 -RADIUS=100;X-TITLE=Weselny Klimat:geo:53.13176,23.17185
END:VEVENT
BEGIN:VTIMEZONE
TZID:Europe/Warsaw
X-LIC-LOCATION:Europe/Warsaw
BEGIN:STANDARD
DTSTART:20191027T020000
TZOFFSETFROM:+0200
TZOFFSETTO:+0100
TZNAME:CET
END:STANDARD
END:VTIMEZONE
END:VCALENDAR