BEGIN:VCALENDAR
VERSION:2.0
PRODID:-//wp-events-plugin.com//7.2.3.1//EN
TZID:Europe/Warsaw
X-WR-TIMEZONE:Europe/Warsaw
BEGIN:VEVENT
UID:44595@night4u.pl
DTSTART;TZID=Europe/Warsaw:20200208T210000
DTEND;TZID=Europe/Warsaw:20200209T030000
DTSTAMP:20200208T082209Z
URL:https://night4u.pl/wydarzenia/premiera-after-movie-project-masow-2019-
 patrzymy-w-przyszlosc/
SUMMARY:Premiera AFTER MOVIE Project Masow 2019 | Patrzymy w Przyszłość
DESCRIPTION:Zapraszamy Was na wyjątkowe wydarzenie.\nJak to na kosmitów p
 rzystało👽\, spotkajmy się w 3 miejscach jednocześnie i przeżyjmy po
 nownie emocje związane z Project Masow 2019 | Patrzymy w Przyszłość.\n
 \n8 lutego spotkamy się w:\n🚀 Naprawa - Warszawa\n\n🚀 Dziupla by Ma
 sow - Dęblin os. Lotnisko\nLine Up \nBienio Beatboxer\nDj\nKASPA\nMinimal
 mix Radio\nAdke\nLorens\nGregor\n\nWizualizacje \n\n🚀Nie możesz być w
  żadnym w powyższych miejsc? Spotkaj się z nami online na grupie Masow 
 People.\n\nPlan jest następujący: spotykamy się\, wspominamy ubiegłoro
 czne wydarzenie\, razem śmieszkujemy i planujemy co zdziałamy na Project
  Masow 2020 Kosmos !\n\n✭✭✭\nPrzydatne linki dla każdego kosmiczneg
 o turysty:\n🎫 Bilety w Kosmos: http://bit.ly/ProjectMasow2020\n🚀 Mie
 jsce zbiórki: http://bit.ly/ProjectMasow2020KosmosEvent
ATTACH;FMTTYPE=image/jpeg:https://night4u.pl/wp-content/uploads/2020/02/14
 3998_image_84102972_2527135050862632_1778046315138121728_n.jpg
CATEGORIES:mazowieckie
END:VEVENT
BEGIN:VTIMEZONE
TZID:Europe/Warsaw
X-LIC-LOCATION:Europe/Warsaw
BEGIN:STANDARD
DTSTART:20191027T020000
TZOFFSETFROM:+0200
TZOFFSETTO:+0100
TZNAME:CET
END:STANDARD
END:VTIMEZONE
END:VCALENDAR