BEGIN:VCALENDAR
VERSION:2.0
PRODID:-//wp-events-plugin.com//7.2.3.1//EN
TZID:Europe/Warsaw
X-WR-TIMEZONE:Europe/Warsaw
BEGIN:VEVENT
UID:19470@night4u.pl
DTSTART;TZID=Europe/Warsaw:20190619T193000
DTEND;TZID=Europe/Warsaw:20190620T023000
DTSTAMP:20190617T194758Z
URL:https://night4u.pl/wydarzenia/premiera-kolekcji-luzztro-x-rave/
SUMMARY:Premiera kolekcji Luzztro X &Rave
DESCRIPTION:WYBIEG / TECHNO / RAVE\n\nNieoczywista kolaboracja pomiędzy wa
 rszawskim klubem Luzztro\, ktory świętuje 16ty rok działalności przy A
 lejach Jerozolimskich 6\, a stosunkowo młodą marką modową - &rave\, kt
 óra powstała z myślą o komforcie i wygodzie polskiej tkanki klubowej.\
 n\nŁączymy klubowe doświadczenie i sznyt z nieograniczoną wyobraźnią
  młodych projektantek\, aby zaprosić Was nie tylko do kupienia nowej kol
 ekcji ubrań dedykowanej wszystkim 'clubbersom'\, ceniącym sobie nieskrep
 owana zabawę do nieprzyzwoitych godzin popołudniowych\, ale przede wszys
 tkim zapraszamy na oficjalny pokaz mody\, ktory swoim rozmachem zawstydzi 
 nawet sławny duet projektujących roślin- Paprotka & Brzozowy.\n\nW nieb
 analny sposób zaprezentujemy kolekcje ubrań\, która powinna przypaść 
 do gustu nawet najbardziej wymagającym fashionistom.\n\n---------------\n
 Kolekcja zostanie zaprezentowana w miksie z regularnymi ubraniami Andrave\
 n\nStart pokazu 20:00 [Wstęp wolny]\n\nAfterparty 20 PLN\n\nOgród: \nPYS
 H\nKEVS\n\nSala Koncertowa:\nPIUR\nNBSE\nPaulina Dębowska \nLuke Caspi\nM
 oia \nŁukasz Zatorski \n\nSee you on the other side of... catwalk.
ATTACH;FMTTYPE=image/jpeg:https://night4u.pl/wp-content/uploads/2019/06/46
 933_image_64397327_860809457615996_3935645070681702400_o.jpg
CATEGORIES:mazowieckie
LOCATION:Akwarium - Skwer Hoovera\, Krakowskie Przedmieście 60a\, Warsaw\,
  00-322\, Poland
GEO:52.244383;21.014646
X-APPLE-STRUCTURED-LOCATION;VALUE=URI;X-ADDRESS=Krakowskie Przedmieście 60
 a\, Warsaw\, 00-322\, Poland;X-APPLE-RADIUS=100;X-TITLE=Akwarium - Skwer H
 oovera:geo:52.244383,21.014646
END:VEVENT
BEGIN:VTIMEZONE
TZID:Europe/Warsaw
X-LIC-LOCATION:Europe/Warsaw
BEGIN:DAYLIGHT
DTSTART:20190331T030000
TZOFFSETFROM:+0100
TZOFFSETTO:+0200
TZNAME:CEST
END:DAYLIGHT
END:VTIMEZONE
END:VCALENDAR