BEGIN:VCALENDAR
VERSION:2.0
PRODID:-//wp-events-plugin.com//7.2.3.1//EN
TZID:Europe/Warsaw
X-WR-TIMEZONE:Europe/Warsaw
BEGIN:VEVENT
UID:48707@night4u.pl
DTSTART;TZID=Europe/Warsaw:20200314T200000
DTEND;TZID=Europe/Warsaw:20200314T213000
DTSTAMP:20200226T175132Z
URL:https://night4u.pl/wydarzenia/premiera-la-bambi-musical-improv/
SUMMARY:Premiera La Bambi - Musical Improv
DESCRIPTION:🎉Najdłużej wyczekiwana premiera sezonu! 🎉\n🎉Wydarzen
 ie na którym nie może Cię zabraknąć!🎉\n\nZapraszamy na spektakl gr
 upy La Bambi - Musical Improv🦌\, czyli w 100% improwizowany mjuzikal op
 arty na schemacie bajek np. Disneya. Jest to podróż bohatera lub bohater
 ki (protagonisty)\, który/a spotyka przeszkody na swej drodze (antagonist
 ę).\n\nŚpiewaliśmy już piosenki o czerwonej rewolucji🎈\, o nieszcz
 ęśliwej miłości💔\, o kurach które przejmują świat🐥\, o skorum
 powanych wielbłądach🐫 które wygrywają wyścigi w Egipcie i inne...\
 n\nDo zobaczenia ! \n🎼🎼🎼🎼🎼🎼🎼🎼🎼🎼🎼🎼🎼
 🎼🎼\n\nPS. Opłata za spektakl w tzw. formie "kapeluszowej"🎩 czyli
  uznaniowo
ATTACH;FMTTYPE=image/jpeg:https://night4u.pl/wp-content/uploads/2020/02/16
 6501_image_86422905_129131735278410_7066128612545527808_n.png
CATEGORIES:mazowieckie
LOCATION:BARdzo bardzo\, ul. Nowogrodzka 11\, Warsaw\, 00-513\, Poland
GEO:52.229429;21.017876
X-APPLE-STRUCTURED-LOCATION;VALUE=URI;X-ADDRESS=ul. Nowogrodzka 11\, Warsaw
 \, 00-513\, Poland;X-APPLE-RADIUS=100;X-TITLE=BARdzo bardzo:geo:52.229429,
 21.017876
END:VEVENT
BEGIN:VTIMEZONE
TZID:Europe/Warsaw
X-LIC-LOCATION:Europe/Warsaw
BEGIN:STANDARD
DTSTART:20191027T020000
TZOFFSETFROM:+0200
TZOFFSETTO:+0100
TZNAME:CET
END:STANDARD
END:VTIMEZONE
END:VCALENDAR