BEGIN:VCALENDAR
VERSION:2.0
PRODID:-//wp-events-plugin.com//7.2.3.1//EN
TZID:Europe/Warsaw
X-WR-TIMEZONE:Europe/Warsaw
BEGIN:VEVENT
UID:18120@night4u.pl
DTSTART;TZID=Europe/Warsaw:20190607T220000
DTEND;TZID=Europe/Warsaw:20190608T050000
DTSTAMP:20190603T202725Z
URL:https://night4u.pl/wydarzenia/prime-time-x-dj-praim-x-piatek-7-06/
SUMMARY:Prime Time x dj Praim x piątek 7.06
DESCRIPTION:⭐️To będzie impreza nadawana w paśmie prime time więc ni
 e może Was zabraknąć??\n\n⭐️ Najlepsza muzyka\, nasze klimatyczne p
 atio\, hektolitry trunków i oczywiście Wy....przepis idealny??\n\n⭐️
 Stery d'jki sprzejmuje dj Praim\, a historia naszego klubu pokazuje że te
 n Pan potrafi świetnie rozgrzać atmosferę ??\n\n⭐️Panie jak zawsze 
 ???\n\n? Start 22:00 ?\nwstęp / ze względu na komfort i bezpieczeństwo 
 naszych gości zastrzegamy sobie prawo do selekcji\n\n⭐️Rezerwacje ☎
 ️692 592 594☎️\n\n??Do zobaczenia w Wysokich??
ATTACH;FMTTYPE=image/jpeg:https://night4u.pl/wp-content/uploads/2019/06/43
 846_image_62189103_2378752985734949_2337936190260379648_o.jpg
CATEGORIES:podlaskie
END:VEVENT
BEGIN:VTIMEZONE
TZID:Europe/Warsaw
X-LIC-LOCATION:Europe/Warsaw
BEGIN:DAYLIGHT
DTSTART:20190331T030000
TZOFFSETFROM:+0100
TZOFFSETTO:+0200
TZNAME:CEST
END:DAYLIGHT
END:VTIMEZONE
END:VCALENDAR