BEGIN:VCALENDAR
VERSION:2.0
PRODID:-//wp-events-plugin.com//7.2.3.1//EN
TZID:Europe/Warsaw
X-WR-TIMEZONE:Europe/Warsaw
BEGIN:VEVENT
UID:37555@night4u.pl
DTSTART;TZID=Europe/Warsaw:20210520T160000
DTEND;TZID=Europe/Warsaw:20210603T160000
DTSTAMP:20210427T204200Z
URL:https://night4u.pl/wydarzenia/pro8l3m-art-brut-2-krakow-druga-data-sol
 d-out/
SUMMARY:PRO8L3M - Art Brut 2 - Kraków / Druga data - Sold Out
DESCRIPTION:UWAGA NOWA DATA MA CHARAKTER ORIENTACYJNY! Dokładny termin pod
 amy jak tylko poprawi się sytuacja epidemiczna w kraju. \n\nCo powiecie n
 a lufę w ICE?\n\nPRO8L3M zagra 2 koncerty promujące nowe wydawnictwo Art
  Brut 2. \n\nWystępowi będzie towarzyszyć całkowicie nowa oprawa wizua
 lna przygotowana specjalnie na tę trasę. \n\nBilety ⬇\nhttps://artbrut
 2.pl/\n\nWsparcie ze środków Funduszu Przeciwdziałania COVID-19.
ATTACH;FMTTYPE=image/jpeg:https://night4u.pl/wp-content/uploads/2021/04/10
 4918_image_139576423_3499861996802685_652177064186843557_n.jpg
CATEGORIES:małopolskie
LOCATION:Klub Studio\, Budryka 4\, Kraków\, 30-072\, Poland
GEO:50.068057;19.908264
X-APPLE-STRUCTURED-LOCATION;VALUE=URI;X-ADDRESS=Budryka 4\, Kraków\, 30-07
 2\, Poland;X-APPLE-RADIUS=100;X-TITLE=Klub Studio:geo:50.068057,19.908264
END:VEVENT
BEGIN:VTIMEZONE
TZID:Europe/Warsaw
X-LIC-LOCATION:Europe/Warsaw
BEGIN:DAYLIGHT
DTSTART:20210328T030000
TZOFFSETFROM:+0100
TZOFFSETTO:+0200
TZNAME:CEST
END:DAYLIGHT
END:VTIMEZONE
END:VCALENDAR