BEGIN:VCALENDAR
VERSION:2.0
PRODID:-//wp-events-plugin.com//7.2.3.1//EN
TZID:Europe/Warsaw
X-WR-TIMEZONE:Europe/Warsaw
BEGIN:VEVENT
UID:41343@night4u.pl
DTSTART;TZID=Europe/Warsaw:20210520T183000
DTEND;TZID=Europe/Warsaw:20210603T183000
DTSTAMP:20210427T204159Z
URL:https://night4u.pl/wydarzenia/pro8l3m-art-brut-2-lodz-sold-out/
SUMMARY:PRO8L3M - Art Brut 2 - Łódź
DESCRIPTION:UWAGA NOWA DATA MA CHARAKTER ORIENTACYJNY! Dokładny termin pod
 amy jak tylko poprawi się sytuacja epidemiczna w kraju. \n\nCo powiecie n
 a lufę w Wytwórni?\n\nPRO8L3M zagra 2 koncerty promujące nowe wydawnict
 wo Art Brut 2. \n\nWystępowi będzie towarzyszyć całkowicie nowa oprawa
  wizualna przygotowana specjalnie na tę trasę. \n\nBilety ⬇\nhttps://a
 rtbrut2.pl/\n\nWsparcie ze środków Funduszu Przeciwdziałania COVID-19.
ATTACH;FMTTYPE=image/jpeg:https://night4u.pl/wp-content/uploads/2021/04/12
 9739_image_139326625_3499890136799871_2909898140586100462_n.jpg
CATEGORIES:łódzkie
LOCATION:Klub Wytwórnia\, Łąkowa 29\, Łódź\, 90-554\, Poland
GEO:51.757542;19.442285
X-APPLE-STRUCTURED-LOCATION;VALUE=URI;X-ADDRESS=Łąkowa 29\, Łódź\, 90-
 554\, Poland;X-APPLE-RADIUS=100;X-TITLE=Klub Wytwórnia:geo:51.757542,19.4
 42285
END:VEVENT
BEGIN:VTIMEZONE
TZID:Europe/Warsaw
X-LIC-LOCATION:Europe/Warsaw
BEGIN:DAYLIGHT
DTSTART:20210328T030000
TZOFFSETFROM:+0100
TZOFFSETTO:+0200
TZNAME:CEST
END:DAYLIGHT
END:VTIMEZONE
END:VCALENDAR