BEGIN:VCALENDAR
VERSION:2.0
PRODID:-//wp-events-plugin.com//7.2.3.1//EN
TZID:Europe/Warsaw
X-WR-TIMEZONE:Europe/Warsaw
BEGIN:VEVENT
UID:31137@night4u.pl
DTSTART;TZID=Europe/Warsaw:20191012T223000
DTEND;TZID=Europe/Warsaw:20191013T060000
DTSTAMP:20191009T194347Z
URL:https://night4u.pl/wydarzenia/projekt-lab-w-metrze/
SUMMARY:Projekt Lab w Metrze!
DESCRIPTION:Reprezentaci jednego z najlepszych klubów w kraju odwiedzą Po
 dlasie\, prezentując turbo energię poznańskiego Projektu LAB! Zapraszam
 y na jedno z ostatnich wydarzeń w Metrze!\n\nLineup\n❃ Zariush\nProjekt
  LAB | Verzerrung | Projekt Labirynt\n❃ QND\nProjekt LAB\n❃ Adren Phut
 ure\nKLUB METRO | Volture | Broken Bones\n❃ MIFI\nKLUB METRO | Tribalang
 a Festival\n\nQND - promotor i dj z wieloletnim doświadczeniem\, a także
  właściciel poznańskiego klubu Projekt LAB. Głównie inspiruje się br
 udnym londyńskim brzmieniem\, które łączy z polirytmicznymi\, nierzadk
 o połamanymi sekwencjami i... ładnymi piosenkami. Jego sety są zarazem 
 swobodne i pełne agresywnego miksu ale przede wszystkim nieoczywiste!\n\n
 Zariush - Poznański didżej\, promotor i menedżer klubu Projekt LAB. Wsp
 ółtworzy takie eventowe inicjatywy jak Verzerrung\, Projekt Labirynt czy
  Techniküm. Podczas ostatnich lat swojej działalności na scenie miał s
 zansę zaprosić do Polski i zagrać u boku takich artystów jak m.in. Anc
 ient Methods\, The Soft Moon\, Vatican Shadow\, Terence Fixmer\, Headless 
 Horseman\, Schwefelgelb\, Codex Empire czy Samuel Kerridge. W\nswoich seta
 ch łączy brudne\, kwaśne i rolandowe techno z industrialnymi brzmieniam
 i\, gitarowymi riffami i EBM'owymi piosenkami. Oprócz macierzystego Proje
 kt LAB\, Zariush występował także w praktycznie wszystkich polskich klu
 bach. Mogliście go też usłyszeć na takich festiwalach jak Instytut Fes
 tival\, Revive Festival\, Upper Festival czy na chorwackim Dimensions Fest
 ival.\n\nStart 22\nWstęp 15 PLN
ATTACH;FMTTYPE=image/jpeg:https://night4u.pl/wp-content/uploads/2019/10/72
 396_image_72352717_10156693143956985_448811249069719552_o.jpg
CATEGORIES:podlaskie
LOCATION:KLUB METRO\, Białówny 9/1\, Białystok\, 15-437\, Poland
GEO:53.13331;23.156827
X-APPLE-STRUCTURED-LOCATION;VALUE=URI;X-ADDRESS=Białówny 9/1\, Białystok
 \, 15-437\, Poland;X-APPLE-RADIUS=100;X-TITLE=KLUB METRO:geo:53.13331,23.1
 56827
END:VEVENT
BEGIN:VTIMEZONE
TZID:Europe/Warsaw
X-LIC-LOCATION:Europe/Warsaw
BEGIN:DAYLIGHT
DTSTART:20190331T030000
TZOFFSETFROM:+0100
TZOFFSETTO:+0200
TZNAME:CEST
END:DAYLIGHT
END:VTIMEZONE
END:VCALENDAR