BEGIN:VCALENDAR
VERSION:2.0
PRODID:-//wp-events-plugin.com//7.2.3.1//EN
TZID:Europe/Warsaw
X-WR-TIMEZONE:Europe/Warsaw
BEGIN:VEVENT
UID:24444@night4u.pl
DTSTART;TZID=Europe/Warsaw:20190809T210000
DTEND;TZID=Europe/Warsaw:20190811T050000
DTSTAMP:20190809T215251Z
URL:https://night4u.pl/wydarzenia/projekt-weekend-metro-club/
SUMMARY:Projekt WeekEND- Metro Club
DESCRIPTION:Projekt WeekEND\n\nW każdy weekend przy Długiej 62 celebrujem
 y najważniejszy klubowy dzień- Sobotę! O olbrzymią dawkę energetyczne
 j\, klubowej muzyki zadba komplet naszych rezydentów:\n\nDJ ALBi DJ ToMAS
 S oraz Dj Verni\n\nStart 21:00\n\nRezerwacje 799-335-906\n\nMetro Club Byd
 goszcz\, Długa 62
ATTACH;FMTTYPE=image/jpeg:https://night4u.pl/wp-content/uploads/2019/08/57
 537_image_67706801_2449668941745889_3632025908312801280_o.jpg
CATEGORIES:kujawsko-pomorskie
LOCATION:Metro Club Bydgoszcz\, Dluga 62\, Bydgoszcz\, 85-034\, Poland
GEO:53.12056;18.00141
X-APPLE-STRUCTURED-LOCATION;VALUE=URI;X-ADDRESS=Dluga 62\, Bydgoszcz\, 85-0
 34\, Poland;X-APPLE-RADIUS=100;X-TITLE=Metro Club Bydgoszcz:geo:53.12056,1
 8.00141
END:VEVENT
BEGIN:VTIMEZONE
TZID:Europe/Warsaw
X-LIC-LOCATION:Europe/Warsaw
BEGIN:DAYLIGHT
DTSTART:20190331T030000
TZOFFSETFROM:+0100
TZOFFSETTO:+0200
TZNAME:CEST
END:DAYLIGHT
END:VTIMEZONE
END:VCALENDAR