BEGIN:VCALENDAR
VERSION:2.0
PRODID:-//wp-events-plugin.com//7.2.3.1//EN
TZID:Europe/Warsaw
X-WR-TIMEZONE:Europe/Warsaw
BEGIN:VEVENT
UID:22994@night4u.pl
DTSTART;TZID=Europe/Warsaw:20190726T210000
DTEND;TZID=Europe/Warsaw:20190727T030000
DTSTAMP:20190724T170431Z
URL:https://night4u.pl/wydarzenia/prominent-salsa-night-by-sabrosa-11/
SUMMARY:Prominent Salsa Night by Sabrosa
DESCRIPTION:Jeszcze emocje po 15-stka Sabrosy. Gala z pokazami + impreza ni
 e opadły a Wy spragnieni tańca? To się dobrze składa bo już wkrótce 
 piątek\, a z tej okazji kolejny raz Prominent Salsa Night przechodzi w r
 ęce Sabrosa Dance Studio. Kto lubi potańczyć to wiadomo\, gdzie się wi
 dzimy: na parkiecie! \n\nZa sterami Arnold Nowak :)\n\nProporcje muzyczne:
 \n2 x la/ mambo\n2 x cubana\n2 x bachata\n1 x kizomba/ semba\n\nO 22:00 za
 praszamy na lekcję podstawowych kroków.\n\n***UWAGA*** \nWstęp za FREE!
 !!\n\nWszelkie uwagi/wnioski/zażalenia - prosimy o komentarz :D
ATTACH;FMTTYPE=image/jpeg:https://night4u.pl/wp-content/uploads/2019/07/54
 333_image_67444192_3430080007018258_7777716930131001344_o.jpg
CATEGORIES:małopolskie
LOCATION:PROMINENT The Original Lounge Bar\, Kraków\, Poland
GEO:50.0754;19.94082
X-APPLE-STRUCTURED-LOCATION;VALUE=URI;X-ADDRESS=Kraków\, Poland;X-APPLE-RA
 DIUS=100;X-TITLE=PROMINENT The Original Lounge Bar:geo:50.0754,19.94082
END:VEVENT
BEGIN:VTIMEZONE
TZID:Europe/Warsaw
X-LIC-LOCATION:Europe/Warsaw
BEGIN:DAYLIGHT
DTSTART:20190331T030000
TZOFFSETFROM:+0100
TZOFFSETTO:+0200
TZNAME:CEST
END:DAYLIGHT
END:VTIMEZONE
END:VCALENDAR