BEGIN:VCALENDAR
VERSION:2.0
PRODID:-//wp-events-plugin.com//7.2.3.1//EN
TZID:Europe/Warsaw
X-WR-TIMEZONE:Europe/Warsaw
BEGIN:VEVENT
UID:4934@night4u.pl
DTSTART;TZID=Europe/Warsaw:20190125T210000
DTEND;TZID=Europe/Warsaw:20190126T030000
DTSTAMP:20190122T193639Z
URL:https://night4u.pl/wydarzenia/protector-one-more-time-dj-darecki-2/
SUMMARY:Protector One More Time | Dj Darecki
DESCRIPTION:Nadchodzi Protector One More Time. Za sterami naszej konsoli st
 anie rezydent klubu Protector Biała ➡ Dj Darecki ? Jak zwykle wszystkie
  Panie do 22:30 mają wjazd FREE ?
ATTACH;FMTTYPE=image/jpeg:https://night4u.pl/wp-content/uploads/2019/01/15
 698_image_50570686_2314154182149731_7420188523673681920_o.jpg
CATEGORIES:dolnośląskie
LOCATION:Seven Heaven Legnica\, kard. Bolesława Kominka 1\, Legnica\, 59-2
 20\, Poland
GEO:51.210306;16.152576
X-APPLE-STRUCTURED-LOCATION;VALUE=URI;X-ADDRESS=kard. Bolesława Kominka 1\
 , Legnica\, 59-220\, Poland;X-APPLE-RADIUS=100;X-TITLE=Seven Heaven Legnic
 a:geo:51.210306,16.152576
END:VEVENT
BEGIN:VTIMEZONE
TZID:Europe/Warsaw
X-LIC-LOCATION:Europe/Warsaw
BEGIN:STANDARD
DTSTART:20181028T020000
TZOFFSETFROM:+0200
TZOFFSETTO:+0100
TZNAME:CET
END:STANDARD
END:VTIMEZONE
END:VCALENDAR