BEGIN:VCALENDAR
VERSION:2.0
PRODID:-//wp-events-plugin.com//7.2.3.1//EN
TZID:Europe/Warsaw
X-WR-TIMEZONE:Europe/Warsaw
BEGIN:VEVENT
UID:43357@night4u.pl
DTSTART;TZID=Europe/Warsaw:20200205T200000
DTEND;TZID=Europe/Warsaw:20200206T030000
DTSTAMP:20200205T193024Z
URL:https://night4u.pl/wydarzenia/prototypy-downtempo-psychill-edition-2/
SUMMARY:Prototypy // Downtempo &amp\; Psychill Edition
DESCRIPTION:Prototypy to cykliczne Open Deck'i w klubie Protokultura. Głó
 wnym celem Prototypów jest wynajdywanie i promowanie młodych artystów. 
 Gramy takie rodzaje jak Psytrance/Techno/Drum'n'bass.\n\nScena Barowa  // 
 LINE UP:\n\n20.00-21.00 - Bladinium [Shiva Space Technology/Leśna Szajka]
 \n21.00-22.30 - GuessWho [Shiva Space Technology]\n22.30-24.00 - Misha Haj
 duci [Shiva Space Technology]\n24.00-01.30 - Wargin\n01.30-03.00 - Psilotu
 m\n\n###\nhttps://www.mixcloud.com/Prototypy/\nhttps://www.facebook.com/Pr
 ototypy.Protokultura/\n---------------\n\nSTART: 20:00\nKIEDY: każda śro
 da\nZA ILE: za friko\nGDZIE: Protokultura\n\nWidzimy się na Stoczni!
ATTACH;FMTTYPE=image/jpeg:https://night4u.pl/wp-content/uploads/2020/01/13
 8658_image_82210755_2987576891273567_8223668233492758528_o.jpg
CATEGORIES:pomorskie
LOCATION:Protokultura - Klub Sztuki Alternatywnej\, Ul. Niterów 29B\, Gdan
 sk\, 80-863\, Poland
GEO:54.364798;18.645647
X-APPLE-STRUCTURED-LOCATION;VALUE=URI;X-ADDRESS=Ul. Niterów 29B\, Gdansk\,
  80-863\, Poland;X-APPLE-RADIUS=100;X-TITLE=Protokultura - Klub Sztuki Alt
 ernatywnej:geo:54.364798,18.645647
END:VEVENT
BEGIN:VTIMEZONE
TZID:Europe/Warsaw
X-LIC-LOCATION:Europe/Warsaw
BEGIN:STANDARD
DTSTART:20191027T020000
TZOFFSETFROM:+0200
TZOFFSETTO:+0100
TZNAME:CET
END:STANDARD
END:VTIMEZONE
END:VCALENDAR