BEGIN:VCALENDAR
VERSION:2.0
PRODID:-//wp-events-plugin.com//7.2.3.1//EN
TZID:Europe/Warsaw
X-WR-TIMEZONE:Europe/Warsaw
BEGIN:VEVENT
UID:4929@night4u.pl
DTSTART;TZID=Europe/Warsaw:20190131T190000
DTEND;TZID=Europe/Warsaw:20190131T210000
DTSTAMP:20190122T193634Z
URL:https://night4u.pl/wydarzenia/przed-premiera-barbara-piotrowska/
SUMMARY:Przed Premierą: Barbara Piotrowska
DESCRIPTION:Zapraszamy na pierwszy w tym roku koncert z cyklu „Przed Prem
 ierą” – \nbohaterka wieczoru\, Barbara Piotrowska\, zaprezentuje swó
 j recital „Tekście wróć”\, który jest nostalgiczną tęsknotą za 
 czasami wielkich tekściarzy a równocześnie przypomnieniem ich twórczo
 ści. Na występ składać się będą piosenki z różnych okresów\, w m
 ieszanych stylach muzycznych\, w większości zmienionych aranżacjach.\n\
 n„Przed premierą” to wieczory podczas których najzdolniejsi polscy w
 ykonawcy młodego pokolenia\, mogący niebawem stanowić czołówkę polsk
 iej sceny muzycznej\, prezentują swój talent na impartowej scenie. Gospo
 darzem spotkań jest wybitny znawca piosenki artystycznej – Bogusław So
 bczuk.\nWSTĘP WOLNY\n\nBIO:\nBarbara Piotrowska to urodzona 11 grudnia 19
 95 roku  wrocławianka – \nw dzieciństwie związana  z zespołem wokaln
 o-tanecznym „ZGRAJA” oraz Ośrodkiem Działań Społeczno-Kulturalnych
  „PIAST”. Ukończyła Szkołę Muzyczną I stopnia nr 2 we Wrocławiu 
 w klasie gitary. Wokalnie szkoliła się u Katarzyny Mirowskiej\, brała r
 ównież udział w wielu warsztatach wokalnych\, między innymi z Januszem
  Szromem\, Mieczysławem Szcześniakiem\, Kubą Badachem\, Anną Stępniew
 ską Gadt. \n\nJest studentką V roku wokalistyki jazzowej na Akademii Muz
 ycznej im. Karola Szymanowskiego w Katowicach oraz równolegle Wydziału F
 ilologii Polskiej Uniwersytetu Wrocławskiego na kierunku antropologia lit
 eratury i teatru. Można ją usłyszeć we wrocławskich klubach. W 2017 r
 oku stworzyła swój autorski projekt poświęcony twórczości Elli Fitzg
 erald\, obecnie pracuje nad autorskim materiałem\, który składa się z 
 jej własnych kompozycji i tekstów.\n\nMa na swoim koncie liczne osiągni
 ęcia:\nI miejsce na Festiwalu Inspiracje-Interpretacje\nGrand Prix 22. Og
 ólnopolski Festiwal Piosenki Artystycznej Rybnik 2018\, \nGrand Prix XXII
 I Ogólnopolski Festiwalu Piosenki Angielskiej w Brzegu\, \nlaureatka 36. 
 Nocnych Spotkań Literacko-Muzycznych we Wrocławiu\, \nII miejsce 43. Mi
 ędzynarodowe Spotkania Wokalistów Jazzowych w Zamościu\, \nII miejsce K
 onkurs Dobrej Piosenki Częstochowa 2018\, \nI nagroda na 45. Ogólnopolsk
 ich Spotkaniach Zamkowych „Śpiewajmy Poezję” w Olsztynie.
ATTACH;FMTTYPE=image/jpeg:https://night4u.pl/wp-content/uploads/2019/01/15
 687_image_49797564_1946925598748882_3797014199360552960_o.jpg
CATEGORIES:dolnośląskie
LOCATION:Impart\, ul.Mazowiecka 17\, Wroclaw\, 50-412\, Poland
GEO:51.107615;17.051446
X-APPLE-STRUCTURED-LOCATION;VALUE=URI;X-ADDRESS=ul.Mazowiecka 17\, Wroclaw\
 , 50-412\, Poland;X-APPLE-RADIUS=100;X-TITLE=Impart:geo:51.107615,17.05144
 6
END:VEVENT
BEGIN:VTIMEZONE
TZID:Europe/Warsaw
X-LIC-LOCATION:Europe/Warsaw
BEGIN:STANDARD
DTSTART:20181028T020000
TZOFFSETFROM:+0200
TZOFFSETTO:+0100
TZNAME:CET
END:STANDARD
END:VTIMEZONE
END:VCALENDAR