BEGIN:VCALENDAR
VERSION:2.0
PRODID:-//wp-events-plugin.com//7.2.3.1//EN
TZID:Europe/Warsaw
X-WR-TIMEZONE:Europe/Warsaw
BEGIN:VEVENT
UID:31216@night4u.pl
DTSTART;TZID=Europe/Warsaw:20191017T190000
DTEND;TZID=Europe/Warsaw:20191017T210000
DTSTAMP:20191009T200240Z
URL:https://night4u.pl/wydarzenia/przed-premiera-katarzyna-dmoch/
SUMMARY:Przed Premierą: Katarzyna Dmoch
DESCRIPTION:Po wakacyjnej przerwie wraca cykl Przed Premierą. \n\nW jego p
 aździernikowej odsłonie zobaczymy i usłyszymy Katarzynę Dmoch\, absolw
 entkę PWST we Wrocławiu na wydziale aktorskim\, laureatkę nagrody głó
 wnej na XXXIII Festiwalu Szkół Teatralnych za role w spektaklach „Wese
 le” w reż. Moniki Strzępki oraz „Lew na ulicy” w reż. Cezarego Ib
 era.\n\nKasia Dmoch była związana z teatrem Ecce Homo w Kielcach\, w kt
 órym można było ją zobaczyć w spektaklach „Padamme\, padamme” i 
 „Wybraniec” w reżyserii Marcina Bortkiewicza. Obecnie mieszka i pracu
 je w Warszawie\, gdzie działa jako wolny strzelec w świecie filmowym ora
 z teatralnym.\n\nArtystka chętnie angażuje się w różne zagraniczne pr
 ojekty teatralne jakim ostatnio było przygotowanie spektaklu „Frankenst
 ein. The dream of ice and fire” z reżyserem z Chin\, w ramach Międzyna
 rodowego Festiwalu teatralnego w Szanghaju. W Warszawie natomiast występu
 je w niezależnym spektaklu pt.” Przebudzenie” reżyserii Marty Malino
 wskiej.\n\nOd 2018 roku współpracuje także z Teatrem Miejskim w Lesznie
 .\n\nPrywatnie interesuje się tańcem\, contact – improwizacją\, jogą
  i rozwojem osobistym. Uwielbia chodzić po górach i kontemplować w lesi
 e\, który pobudza do twórczego myślenia.\n\nKatarzynie Dmoch na scenie 
 będzie towarzyszył pianista Stanisław Łopuszyński.
ATTACH;FMTTYPE=image/jpeg:https://night4u.pl/wp-content/uploads/2019/10/72
 564_image_71851993_2390592507715520_7333211424430227456_o.jpg
CATEGORIES:dolnośląskie
LOCATION:Impart\, ul.Mazowiecka 17\, Wroclaw\, 50-412\, Poland
GEO:51.107615;17.051446
X-APPLE-STRUCTURED-LOCATION;VALUE=URI;X-ADDRESS=ul.Mazowiecka 17\, Wroclaw\
 , 50-412\, Poland;X-APPLE-RADIUS=100;X-TITLE=Impart:geo:51.107615,17.05144
 6
END:VEVENT
BEGIN:VTIMEZONE
TZID:Europe/Warsaw
X-LIC-LOCATION:Europe/Warsaw
BEGIN:DAYLIGHT
DTSTART:20190331T030000
TZOFFSETFROM:+0100
TZOFFSETTO:+0200
TZNAME:CEST
END:DAYLIGHT
END:VTIMEZONE
END:VCALENDAR