BEGIN:VCALENDAR
VERSION:2.0
PRODID:-//wp-events-plugin.com//7.2.3.1//EN
TZID:Europe/Warsaw
X-WR-TIMEZONE:Europe/Warsaw
BEGIN:VEVENT
UID:16868@night4u.pl
DTSTART;TZID=Europe/Warsaw:20190528T190000
DTEND;TZID=Europe/Warsaw:20190528T235900
DTSTAMP:20190522T094416Z
URL:https://night4u.pl/wydarzenia/przedostatnie-planszowki-w-spirali/
SUMMARY:Przedostatnie Planszówki w Spirali
DESCRIPTION:Zapraszamy na przedostatni wieczór z planszówkami i karcianka
 mi w tym roku akademickim. Zasady już znacie\, ale wciąż widzimy nowe t
 warze\, więc opiszemy je w wielkim skrócie:\n\nNa miejscu mamy ponad sto
  tytułów\, ale jeśli ktoś bardzo chce\, może przynieść własne gry.
 \n\nKilka uwag: \n\n1. Gry należą do Portal Games\, 2Pionki oraz do Pion
 ek - gramy razem już 10 lat\, dlatego dbajcie o nie\, jak o swoje.\n2. Za
 czynamy o 19 i kończymy o północy.\n3. Jeśli nigdy nie graliście i b
 ędziecie potrzebowali pomocy przy wyborze tytułu czy wyjaśnieniu zasad\
 , pytajcie o Marek Spychalski.\n\nBAR czynny jest zawsze od 17.00\n\nPrzed
 ostatnie Planszówki w Spirali\n28 maja 2019\, godz.19\nSpirala / Mrowisko
 \nPszczyńska 85\nWstęp wolny
ATTACH;FMTTYPE=image/jpeg:https://night4u.pl/wp-content/uploads/2019/05/41
 330_image_60617116_2244454058954766_1253840961046315008_o.jpg
CATEGORIES:śląskie
LOCATION:Klub Studencki Spirala\, Pszczyńska 85\, Gliwice\, 44-100\, Polan
 d
GEO:50.28534;18.67771
X-APPLE-STRUCTURED-LOCATION;VALUE=URI;X-ADDRESS=Pszczyńska 85\, Gliwice\, 
 44-100\, Poland;X-APPLE-RADIUS=100;X-TITLE=Klub Studencki Spirala:geo:50.2
 8534,18.67771
END:VEVENT
BEGIN:VTIMEZONE
TZID:Europe/Warsaw
X-LIC-LOCATION:Europe/Warsaw
BEGIN:DAYLIGHT
DTSTART:20190331T030000
TZOFFSETFROM:+0100
TZOFFSETTO:+0200
TZNAME:CEST
END:DAYLIGHT
END:VTIMEZONE
END:VCALENDAR