BEGIN:VCALENDAR
VERSION:2.0
PRODID:-//wp-events-plugin.com//7.2.3.1//EN
TZID:Europe/Warsaw
X-WR-TIMEZONE:Europe/Warsaw
BEGIN:VEVENT
UID:514@night4u.pl
DTSTART;TZID=Europe/Warsaw:20181222T210000
DTEND;TZID=Europe/Warsaw:20181223T050000
DTSTAMP:20181217T171617Z
URL:https://night4u.pl/wydarzenia/przedswiateczna-sobota-22-12/
SUMMARY:Przedświąteczna Sobota // 22.12 //
DESCRIPTION:W sobotę\, 22 grudnia\, zapraszamy Was do 30-stki na przedświ
 ąteczny rozruch! Prawdziwy aerobik zapewnią nasi DJe rezydenci\, czyli C
 i\, którzy znają Was najlepiej!\n\nMERRY CHRISTMAS!\n\nSzykujcie się - 
 startujemy o 20:00 na Jasnej 7!\n\nLINE-UP:\nHUNTER/SLIMYNOISE (70s 80s)\n
 ALAN WHITE/DEMANU (top hits)\nSZELA (VIP)\n\n-----------------------------
 -------------------------------------------------------\nDla kogo jest Klu
 b30 ? \nSzykujemy dla Was miejsce\, w którym bez problemu znajdziecie wsp
 ólny język z innymi klubowiczami. Nie spotkasz tu swojej córki\, nie sp
 otkasz tu swoich studentów...\nZa to na pewno spotkasz ludzi\, którzy ni
 e wyobrażają sobie siedzieć wieczorem w domu.\n------------------------
 ------------------------------------------------------------\nSTART: 21:00
 \n\nWSTĘP:\ndo 22:00 - 10 PLN\npo 22:00 - 15 PLN\n\nRezerwacje: 574 649 5
 83 (wtorek - sobota\, 16:00 - 19:00)\n\nW naszym klubie istnieje możliwo
 ść przygotowania cateringu! To świetna opcja na wieczory panieńskie\, 
 kawalerskie czy spotkania biznesowe. Jeżeli jesteś zainteresowany/a - po
 wiadom nas o tym przy rezerwacji telefonicznej!\n\nNajlepiej po trzydziest
 ce... :) \nObowiązuje door selection
ATTACH;FMTTYPE=image/jpeg:https://night4u.pl/wp-content/uploads/2018/12/47
 21_image_48083587_2005076599785247_377483288371003392_o.jpg
CATEGORIES:lubelskie
LOCATION:Klub30 Lublin\, Lublin\, Poland
GEO:51.249038;22.552872
X-APPLE-STRUCTURED-LOCATION;VALUE=URI;X-ADDRESS=Lublin\, Poland;X-APPLE-RAD
 IUS=100;X-TITLE=Klub30 Lublin:geo:51.249038,22.552872
END:VEVENT
BEGIN:VTIMEZONE
TZID:Europe/Warsaw
X-LIC-LOCATION:Europe/Warsaw
BEGIN:STANDARD
DTSTART:20181028T020000
TZOFFSETFROM:+0200
TZOFFSETTO:+0100
TZNAME:CET
END:STANDARD
END:VTIMEZONE
END:VCALENDAR