BEGIN:VCALENDAR
VERSION:2.0
PRODID:-//wp-events-plugin.com//7.2.3.1//EN
TZID:Europe/Warsaw
X-WR-TIMEZONE:Europe/Warsaw
BEGIN:VEVENT
UID:39785@night4u.pl
DTSTART;TZID=Europe/Warsaw:20191219T210000
DTEND;TZID=Europe/Warsaw:20191220T030000
DTSTAMP:20191219T224744Z
URL:https://night4u.pl/wydarzenia/przedswiateczne-karaoke-%e2%98%85-peweks
 /
SUMMARY:Przedświąteczne Karaoke ★ Peweks
DESCRIPTION:🎄HO HO HO!🎄\nJuż w najbliższy czwartek serdecznie zapra
 szamy wszystkich\, którzy kochają śpiewać na PRZEDŚWIĄTECZNE KARAOKE
  do Peweksu! W repertuarze oczywiście Mariah Carey\, Wham i wszystkie św
 iąteczne piosenki świata\, ale z pewnością\, nie zabraknie również W
 aszych ulubionych hitów tanecznych \;)\n\nZapraszamy!
ATTACH;FMTTYPE=image/jpeg:https://night4u.pl/wp-content/uploads/2019/12/11
 9284_image_78979050_2826702344018236_4721101298135465984_o.jpg
CATEGORIES:lubelskie
LOCATION:Peweks Art &amp\; Music\, Centralna 1\, Puławy\, 24-100\, Poland
GEO:51.417498;21.967772
X-APPLE-STRUCTURED-LOCATION;VALUE=URI;X-ADDRESS=Centralna 1\, Puławy\, 24-
 100\, Poland;X-APPLE-RADIUS=100;X-TITLE=Peweks Art & Music:geo:51.417498,2
 1.967772
END:VEVENT
BEGIN:VTIMEZONE
TZID:Europe/Warsaw
X-LIC-LOCATION:Europe/Warsaw
BEGIN:STANDARD
DTSTART:20191027T020000
TZOFFSETFROM:+0200
TZOFFSETTO:+0100
TZNAME:CET
END:STANDARD
END:VTIMEZONE
END:VCALENDAR