BEGIN:VCALENDAR
VERSION:2.0
PRODID:-//wp-events-plugin.com//7.2.3.1//EN
TZID:Europe/Warsaw
X-WR-TIMEZONE:Europe/Warsaw
BEGIN:VEVENT
UID:47543@night4u.pl
DTSTART;TZID=Europe/Warsaw:20200428T190000
DTEND;TZID=Europe/Warsaw:20200429T010000
DTSTAMP:20200309T155411Z
URL:https://night4u.pl/wydarzenia/przeglad-kapel-rockowych-2020-juwenalia-
 uek/
SUMMARY:Farben Lehre | Przegląd Kapel Rockowych 2020 Juwenalia UEK
DESCRIPTION:[ENG BELOW]\n\nXII edycja Przeglądu Kapel Rockowych UEK zbliż
 a się wielkimi krokami. To już kolejna szansa dla początkujących muzyk
 ów\, aby zaistnieć w świecie kariery\, sławy i oczywiście rocka! Pier
 wszym krokiem jest zgłoszenie zespołu\, następnie pozostaje już tylko 
 dostać się do finałowej piątki wybranej przez ekspertów z branży muz
 ycznej. Jednak zwycięzca może być tylko jeden - wyłoniony na scenie pr
 zez profesjonalne jury. Zakończeniem muzycznych zmagań będzie koncert G
 łównej Gwiazdy. Ciekawi szczegółów? Wszystkiego dowiecie się\, śled
 ząc nasze wydarzenie!\n\nCo? \nPrzegląd Kapel Rockowych UEK\n\nKiedy?\n2
 8 kwietnia 2020\, godzina 19:00\n\nGdzie?\nKlub Kwadrat\n\nZgłoszenia:\nb
 it.ly/2HULN40\n\nGwiazda:\nFarben Lehre\nW 1986 roku dwóch fanatyków muz
 ycznych postanowiło dać upust swoim pragnieniom założenia zespołu i t
 ak oto Wojciech Wojda i Marek Knap na zawsze wpisali się w historię Farb
 en Lehre jako założyciele.\nW ciągu trzech minionych dekad ukazało si
 ę 13 płyt studyjnych. Do tej pory płoccy muzycy mają na swoim koncie p
 onad 1800 zagranych koncertów. Zespół wystąpił m.in. dwunastokrotnie 
 na festiwalu w Jarocinie. W latach 1996\, 2004\, 2006 i 2013 grupa zapreze
 ntowała się na dużej scenie Przystanku Woodstock\, a poza tym sześciok
 rotnie z powodzeniem zaistniała na Scenie Viva Kultura Pokojowej Wioski K
 rs'hny. Od 1994 roku zespół był pomysłodawcą oraz jednym z wykonawcó
 w wiosennej trasy koncertowej Punky Reggae Live. Muzyka Farben Lehre jest 
 energiczna\, melodyjna\, pełna radości grania i wolna od kompleksów. Os
 tre\, aczkolwiek przystępne dźwięki oraz garść szczerych słów stano
 wią próbę duchowego porozumienia się z drugim człowiekiem.\n\n\nBilet
 y:\nStudent UEK 10 PLN\nNormalny 15 PLN\n\nRegulamin:\nhttp://bit.ly/39Dxb
 lk\nhttp://bit.ly/3aiIuQd\n\n\nProjekt realizowany przez NZS UEK w ramach 
 Juwenaliów UEK.\n\nOrganizatorzy:\nUniwersytet Ekonomiczny w Krakowie\, P
 arlament Studencki Uniwersytetu Ekonomicznego w Krakowie\, NZS UEK\, ESN U
 EK Cracow\n\n_____\n\nThe XII edition of Rock Band Review is approaching w
 ith big steps. Another chance for beginning musicians\, to make their firs
 t move into the world of fame\, and rock! The first step is registering th
 e band\, the next one is simply staying on to be the final five picked by 
 experts from the music industry. However there can only be one winner - fi
 shed out on the stage by a professional jury. At the end of the musical st
 ruggles\, there will be a concert of the main star. Interested in the deta
 ils? You can find everything out by following our event!\n\nWhat?\nPrzegl
 ąd Kapel Rockowych UEK\n\nWhen?\n28 April 2020\, 7:00 pm\n\nWhere?\nKlub 
 Kwadrat\n\nApplication:\nbit.ly/2HULN40\n\nMain star:\nFarben Lehre\nIn 19
 86 two music lovers decided to pursue their dream of creating a band and t
 hat’s how Wojciech Wojda and Marek Kano became the founders of Farben Le
 hre. \nThroughout three decades they released 13 studio albums. Till today
  these artists have over 1800 concerts on their record. The band performed
  12 times at the festival in Jarociniec. During the years 1996\, 2004\,200
 6 and 2013 the band presented themselves at the Woodstock festival\, and 6
  times appeared on the VIVA cultural peace stage. From 1994 the band was t
 he creator and one of the performers of the Punky Reggae Live spring tour.
   Farben Lehre's music is energetic\, melodious\, full of joy and free fro
 m complexes.  Sharp\, but accessible sounds and a handful of honest words 
 are an attempt to spiritually communicate with other people.\n\n\nTickets:
 \nCUE Student 10 PLN\nNormal 15 PLN\n\nRegulations:\nhttp://bit.ly/39Dxblk
 \n\n\nProject implemented by NZS UEK under Juwenalia UEK.\n\nOrganisers:\n
 Uniwersytet Ekonomiczny w Krakowie Parlament Studencki Uniwersytetu Ekonom
 icznego w Krakowie\, NZS UEK\, ESN UEK Cracow
ATTACH;FMTTYPE=image/jpeg:https://night4u.pl/wp-content/uploads/2020/03/15
 9618_image_89094333_3073887842644086_6280785450105831424_n.jpg
CATEGORIES:małopolskie
LOCATION:Hala Forum\, Marii Konopnickiej 28\, Kraków\, 30-302\, Poland
GEO:50.04504;19.93639
X-APPLE-STRUCTURED-LOCATION;VALUE=URI;X-ADDRESS=Marii Konopnickiej 28\, Kra
 ków\, 30-302\, Poland;X-APPLE-RADIUS=100;X-TITLE=Hala Forum:geo:50.04504,
 19.93639
END:VEVENT
BEGIN:VTIMEZONE
TZID:Europe/Warsaw
X-LIC-LOCATION:Europe/Warsaw
BEGIN:DAYLIGHT
DTSTART:20200329T030000
TZOFFSETFROM:+0100
TZOFFSETTO:+0200
TZNAME:CEST
END:DAYLIGHT
END:VTIMEZONE
END:VCALENDAR