BEGIN:VCALENDAR
VERSION:2.0
PRODID:-//wp-events-plugin.com//7.2.3.1//EN
TZID:Europe/Warsaw
X-WR-TIMEZONE:Europe/Warsaw
BEGIN:VEVENT
UID:42724@night4u.pl
DTSTART;TZID=Europe/Warsaw:20201106T190000
DTEND;TZID=Europe/Warsaw:20201106T230000
DTSTAMP:20200504T091807Z
URL:https://night4u.pl/wydarzenia/przeniesiony-swietliki-06-11-2020-krakow
 /
SUMMARY:Przeniesiony! Świetliki | 06.11.2020 Kraków
DESCRIPTION:Szanowni Państwo!\n\nUprzejmie informujemy\, że planowany na 
 dzień 29 marca 2020 koncert grupy Świetliki w krakowskim klubie Kwadrat\
 , decyzją Artystów i Organizatora zostaje przeniesiony na 6 listopada 20
 20 roku. WSZYSTKIE BILETY ZACHOWUJĄ WAŻNOŚĆ!! Jeśli nie będzie Pańs
 twu odpowiadać nowa data koncertu\, bilety można zwracać w punktach zak
 upu.\n\nŚwietliki\n\nKraków – 06.11.2020 –  Klub Kwadrat ul. Skarży
 ńskiego 1\nOtwarcie wejść: 18:00 Start: 19:00\nBilety Przedsprzedaż 50
 zł w dniu koncertu 60zł\n\nBilety do nabycia:\n\nBILETY KOLEKCJONERSKIE:
 \n\nKlub Kwadrat\, ul. Skarżyńskiego 1\nMetal Shop\, ul. Długa 17\nPły
 ty Winylowe\, ul.Dobrego Pasterza 100\nKlub Kombinator os. Szkolne 25\nZET
  PE TE ul Dolnych Młynów 10\nNowa Księgarnia os Zgody 7\n\nWysyłkowa s
 przedaż biletów kolekcjonerskich:\ntel.12 632 21 47 (metal.shop.dluga@gm
 ail.com)\n\nBILETY ELEKTRONICZNE:\n\nBilety z systemu Ticketmaster:  https
 ://www.ticketmaster.pl/event/15915 oraz w sieci sklepów: EMPIK\, MEDIA MA
 RKT\, SATURN w całej Polsce.\n\nBilety z systemu eBilet:  https://www.ebi
 let.pl/muzyka/rock/swietliki/ oraz w sieci sklepów: EMPIK\, MEDIA MARKT\,
  SATURN w całej Polsce.\n\nBilety z sieci EMPIK: https://empikbilety.pl/w
 ydarzenie/swietliki/marzec-2020\n\nBilety z systemu Going: https://going.p
 l/swietliki-krakow
ATTACH;FMTTYPE=image/jpeg:https://night4u.pl/wp-content/uploads/2020/03/13
 5433_image_89721952_3539176036154261_880003623168245760_o.jpg
CATEGORIES:małopolskie
LOCATION:Hala Forum\, Marii Konopnickiej 28\, Kraków\, 30-302\, Poland
GEO:50.04504;19.93639
X-APPLE-STRUCTURED-LOCATION;VALUE=URI;X-ADDRESS=Marii Konopnickiej 28\, Kra
 ków\, 30-302\, Poland;X-APPLE-RADIUS=100;X-TITLE=Hala Forum:geo:50.04504,
 19.93639
END:VEVENT
BEGIN:VTIMEZONE
TZID:Europe/Warsaw
X-LIC-LOCATION:Europe/Warsaw
BEGIN:STANDARD
DTSTART:20201025T020000
TZOFFSETFROM:+0200
TZOFFSETTO:+0100
TZNAME:CET
END:STANDARD
END:VTIMEZONE
END:VCALENDAR