BEGIN:VCALENDAR
VERSION:2.0
PRODID:-//wp-events-plugin.com//7.2.3.1//EN
TZID:Europe/Warsaw
X-WR-TIMEZONE:Europe/Warsaw
BEGIN:VEVENT
UID:39252@night4u.pl
DTSTART;TZID=Europe/Warsaw:20201011T190000
DTEND;TZID=Europe/Warsaw:20201011T220000
DTSTAMP:20200504T090836Z
URL:https://night4u.pl/wydarzenia/przesuniety-king-dude-neal-cassady-krako
 w-11-10/
SUMMARY:Przesunięty*** King Dude + Neal Cassady - Kraków\, 11.10
DESCRIPTION:EDIT: Ze względu na pandemię wirusa COVID-19 i w trosce o bez
 pieczeństwo uczestników koncertów organizowanych przez Iron Realm Produ
 ctions\, planowany na kwiecień koncert King Dude w Krakowie zostaje przen
 iesiony na październik.King Dude wystąpi w krakowskim Klubie Zaścianek 
 11 października 2020 r.\nWydarzenie na Facebooku:https://www.facebook.com
 /events/424623181826254/\nBilety zakupione w systemie TicketClub oraz bile
 ty kolekcjonerskie zachowają ważność na nową datę – możliwy jest 
 też ich zwrot. Osoby\, które chcą zwrócić zakupiony bilet mogą to zr
 obić wypełniając formularz zwrotów systemu TicketClub Polska:https://t
 c-assets-dep.s3.amazonaws.com/media/uploads/TicketClub_Formularz%20zwrotu_
 reklamacji_CJvJEAA.pdfi wysyłając go na adres mailowy: bilety@ticketclub
 .pl.\n\nKing Dude (TJ Cowgill) to niebieskooki\, amerykański mefistofeles
  z gitarą\, którego znakiem rozpoznawczym od ponad dekady stały się hi
 pnotyczny\, gardłowy baryton\, kontrowersyjne teksty oraz – nade wszyst
 ko–brzmienie\, łączące w sobie elementy bluesa\, krajowego folku oraz
  Americany.Siódmy album Króla Kolesia\, „Music To Make War to” ukaza
 ł się w zeszłym roku nakładem Ván Records – i promowały go dwa sin
 gle: sensualny “Velvet Rope” oraz mroczny “Time To Go To War”. Na 
 wiosnę 2020 r.\, King Dude wraca do Polski na dwa koncerty i wystąpi w K
 rakowie 7 kwietnia (wtorek) w Klub Zaścianek ze specjalnym setem akustycz
 nym.\n\nJako support wystąpi krakowski zespół Neal Cassady\,\n---------
 -----------------------------------------\nKing Dude (USA\, neofolk)\n11.1
 0.2020 \nKraków\, Klub Zaścianek (Józefa Rostafińskiego 4)\nBilety: 65
  zł (przedsprzedaż) / 80 zł (w dniu koncertu)\nBilety w sprzedaży onli
 ne dostępne w TicketClub Polska i ebilet.pl:\n\nhttps://ticketclub.pl/mie
 jsca/klub-zascianek-krakow-40/\nhttps://www.ebilet.pl/miejsce/klub-zascian
 ek/\n\nBilety kolekcjonerskie dostępne w:\n- Metal Shop ul. Długa 17 - S
 klep Muzyczny Kraków\n- Klub Filutek\nod połowy grudnia.
ATTACH;FMTTYPE=image/jpeg:https://night4u.pl/wp-content/uploads/2020/04/11
 5013_image_92242633_1685373201605314_1765530973711106048_o.jpg
CATEGORIES:małopolskie
LOCATION:Klub Zaścianek\, ul. Rostafińskiego 4\, Kraków\, 30-072\, Polan
 d
GEO:50.068039;19.905487
X-APPLE-STRUCTURED-LOCATION;VALUE=URI;X-ADDRESS=ul. Rostafińskiego 4\, Kra
 ków\, 30-072\, Poland;X-APPLE-RADIUS=100;X-TITLE=Klub Zaścianek:geo:50.0
 68039,19.905487
END:VEVENT
BEGIN:VTIMEZONE
TZID:Europe/Warsaw
X-LIC-LOCATION:Europe/Warsaw
BEGIN:DAYLIGHT
DTSTART:20200329T030000
TZOFFSETFROM:+0100
TZOFFSETTO:+0200
TZNAME:CEST
END:DAYLIGHT
END:VTIMEZONE
END:VCALENDAR