BEGIN:VCALENDAR
VERSION:2.0
PRODID:-//wp-events-plugin.com//7.2.3.1//EN
TZID:Europe/Warsaw
X-WR-TIMEZONE:Europe/Warsaw
BEGIN:VEVENT
UID:27461@night4u.pl
DTSTART;TZID=Europe/Warsaw:20190924T200000
DTEND;TZID=Europe/Warsaw:20190925T000000
DTSTAMP:20190914T105610Z
URL:https://night4u.pl/wydarzenia/pub-crawl-orientation-week-with-esn-uj-c
 racow/
SUMMARY:Pub Crawl - Orientation Week with ESN UJ Cracow
DESCRIPTION:The second evening of the Orientation Week\, after many activit
 ies\, we have prepared something special! ???\n\nPUB CRAWL is a tour in a 
 few pubs or clubs with some drinking activities! You will be divided into 
 different groups (the winner will get a prize during the last stop which i
 s the RITMO DE LATINO party in La Bodega del Ron)??????\n\nIt’s a great\
 , integrating activity\, and we really encourage you to join! The registra
 tion starts on Saturday so don’t forget to sign up as your presence duri
 ng this is a M U S T!???\n\nOur Pub Crawl stops:\n? B4 Bracka 4\n? ToTu Cl
 ub\n? Four Music Club\n? Prozak 2.0\n? Ritmo de Latino in La Bodega del Ro
 n\n\nSee you soon!
ATTACH;FMTTYPE=image/jpeg:https://night4u.pl/wp-content/uploads/2019/09/63
 937_image_69972616_3006175942742205_3055995760840540160_o.jpg
CATEGORIES:małopolskie
END:VEVENT
BEGIN:VTIMEZONE
TZID:Europe/Warsaw
X-LIC-LOCATION:Europe/Warsaw
BEGIN:DAYLIGHT
DTSTART:20190331T030000
TZOFFSETFROM:+0100
TZOFFSETTO:+0200
TZNAME:CEST
END:DAYLIGHT
END:VTIMEZONE
END:VCALENDAR