BEGIN:VCALENDAR
VERSION:2.0
PRODID:-//wp-events-plugin.com//7.2.3.1//EN
TZID:Europe/Warsaw
X-WR-TIMEZONE:Europe/Warsaw
BEGIN:VEVENT
UID:15294@night4u.pl
DTSTART;TZID=Europe/Warsaw:20190513T200000
DTEND;TZID=Europe/Warsaw:20190514T050000
DTSTAMP:20190509T093833Z
URL:https://night4u.pl/wydarzenia/pubquiz-tandem-meeting-x-esn-krakow-unit
 ed-x-b4/
SUMMARY:PubQuiz Tandem Meeting x ESN Kraków United x B4
DESCRIPTION:Moreover\, there are special discounts:\n• Small Beer - 4 zł
  / regular price 8 zł\,\n• Big Beer - 6 zł / regular price 10 zł\n•
  Tray of shots - 18 zł / regular price 25 zł \,\n• Whisky with Pepsi -
  12 zł / regular price 17 zł\n• Martini + 7up - 8zł / regular price 1
 3 zł\,\n• Vodka + Black - 18zł / regular price 20 zł\,\n• Cuba Libr
 e 10 zł / regular price 19 zł\n\nDon’t miss the opportunity to get to 
 know amazing people from all over the world\, pick up your language and ha
 ve the time of your life!\n\n\n**PLEASE DO NOT REMOVE ANY FLAGS AT THE EVE
 NT. 100PLN FINE FOR PROPERTY DAMAGE**
ATTACH;FMTTYPE=image/jpeg:https://night4u.pl/wp-content/uploads/2019/05/37
 789_image_59921534_1849034808530307_4548405838598897664_n.jpg
CATEGORIES:małopolskie
LOCATION:B4 Bracka 4\, ul.Bracka 4\, Kraków\, 31-005\, Poland
GEO:50.06042;19.93637
X-APPLE-STRUCTURED-LOCATION;VALUE=URI;X-ADDRESS=ul.Bracka 4\, Kraków\, 31-
 005\, Poland;X-APPLE-RADIUS=100;X-TITLE=B4 Bracka 4:geo:50.06042,19.93637
END:VEVENT
BEGIN:VTIMEZONE
TZID:Europe/Warsaw
X-LIC-LOCATION:Europe/Warsaw
BEGIN:DAYLIGHT
DTSTART:20190331T030000
TZOFFSETFROM:+0100
TZOFFSETTO:+0200
TZNAME:CEST
END:DAYLIGHT
END:VTIMEZONE
END:VCALENDAR