BEGIN:VCALENDAR
VERSION:2.0
PRODID:-//wp-events-plugin.com//7.2.3.1//EN
TZID:Europe/Warsaw
X-WR-TIMEZONE:Europe/Warsaw
BEGIN:VEVENT
UID:51102@night4u.pl
DTSTART;TZID=Europe/Warsaw:20211003T200000
DTEND;TZID=Europe/Warsaw:20211003T220000
DTSTAMP:20210908T144746Z
URL:https://night4u.pl/wydarzenia/pudelsi-akustikoascetiko-3-10-2021-torun
 /
SUMMARY:Püdelsi - AkustikoAscetiko | 3.10.2021 | TORUŃ
DESCRIPTION:🗣️ Zapraszamy na wyjątkowy koncert zespołu Püdelsi "Aku
 stikoAscetiko" w ramach trasy koncertowej "Püdel in memoriam | 35 lat". N
 ajwiększe przeboje oraz nowe utwory w akustycznych wersjach\, dzięki cze
 mu zyskują one czytelność i ascetyczny charakter wybrzmią w Lizard Kin
 g Toruń już 3 października (niedziela) 2021 roku. Wszelkie szczegóły 
 dotyczące koncertu\, punkty sprzedaży biletów znajdziecie poniżej lub 
 pod numerem telefonu 668-963-904.\n_______________________________\n🎫 B
 ILETY w cenie przedsprzedaży / I PULA / 60 zł dostępne online oraz stac
 jonarnie:\n\n▪Biletyna.pl: https://bit.ly/3yadYEz\n▪KupBilecik.pl: htt
 ps://bit.ly/3zH2AjK\n▪Biuro Copernicana\, ul. Żeglarska 10/14\n▪Księ
 garnia PWN\, ul. Reja 25\n▪Inf. Turystyczna\, ul. Rynek Staromiejski\n__
 _____________________________\n📋 Rezerwacja stolików (bezpłatne):\n
 ▪ e-mail: lizardkingtorun@gmail.com\n☎ Bilety grupowe / rezerwacje:\n
 ▪ pod numerem telefonu: 668-963-904\n_______________________________\nZg
 odnie z ostatnia wolą Andrzeja "Püdla" Bieniasza\, pozostając w bliskim
  kontakcie z Jego Rodziną\, zespół Püdelsi będzie kontynuował swoją
  działalność! Podczas koncertu "AkustikoAscetiko" 4-osobowy skład\, cz
 erpiąc z tradycji pierwszych nagrań zespołu\, wykonuje największe prze
 boje oraz nowe utwory w akustycznych wersjach\, dzięki czemu zyskują one
  czytelność i ascetyczny charakter. Twórczość zespołu będzie oparta
  na dotychczasowych dokonaniach artystycznych Püdla oraz na niewykorzysta
 nych dotąd tekstach\, kompozycjach i nagranych przez Niego partiach instr
 umentalnych. W najbliższym czasie planowane jest ukończenie i wydanie p
 łyty Akustiko-Ascetiko oraz archiwalnych nagrań zespołu DÜPĄ\, obie p
 łyty nakładem wytwórni Püdel Records.\n\nZespół wystąpi w składzie
 :\nPiotr Foreman Foryś - wokal\nAdam Drzewiecki - instrumenty klawiszowe\
 nTomek Dominik - perkusja\nBartosz Latus - gitara
ATTACH;FMTTYPE=image/jpeg:https://night4u.pl/wp-content/uploads/2021/08/18
 6413_image_229926744_10158657460526731_7895771637691955328_n.jpg
CATEGORIES:kujawsko-pomorskie
LOCATION:Lizard King Toruń\, Kopernika 3\, Torun\, 87-100\, Poland
GEO:53.00939;18.60504
X-APPLE-STRUCTURED-LOCATION;VALUE=URI;X-ADDRESS=Kopernika 3\, Torun\, 87-10
 0\, Poland;X-APPLE-RADIUS=100;X-TITLE=Lizard King Toruń:geo:53.00939,18.6
 0504
END:VEVENT
BEGIN:VTIMEZONE
TZID:Europe/Warsaw
X-LIC-LOCATION:Europe/Warsaw
BEGIN:DAYLIGHT
DTSTART:20210328T030000
TZOFFSETFROM:+0100
TZOFFSETTO:+0200
TZNAME:CEST
END:DAYLIGHT
END:VTIMEZONE
END:VCALENDAR