BEGIN:VCALENDAR
VERSION:2.0
PRODID:-//wp-events-plugin.com//7.2.3.1//EN
TZID:Europe/Warsaw
X-WR-TIMEZONE:Europe/Warsaw
BEGIN:VEVENT
UID:36035@night4u.pl
DTSTART;TZID=Europe/Warsaw:20191130T220000
DTEND;TZID=Europe/Warsaw:20191201T033000
DTSTAMP:20191129T092217Z
URL:https://night4u.pl/wydarzenia/pulp-party-andrzejki-w-klimacie-filmow-t
 arantino/
SUMMARY:Pulp Party / Andrzejki w klimacie filmów Tarantino
DESCRIPTION:Zapraszamy na imprezę Andrzejkową w klimacie soundtrack ów f
 ilmów Tarantino. \n\nFilmy Tarantino są pełne akcji\, zaskakujących zw
 rotów i poczucia humoru. Podobnie muzyka\, którą użył w nich do ście
 żki dźwiękowej. Sam Tarantino lubi tańczyć i przy scenie konkursu twi
 sta w Pulp Fiction tańczył za kamerą. W rolę Travolty i Samuela L. Jac
 ksona wciela się dwóch znanych Warszawskich DJów: Envee i Cpt. Sparky. 
 Strzelać będą oni z płyt winylowych muzykę inspirowaną ścieżkami d
 źwiękowymi filmów Tarantino. Nie zabraknie muzyki Surferskiej\, Twista\
 , Funka i Hip-hopu. Można tą imprezę potraktować jako przebieraną i p
 rzyjść np.  z opaską na oku jak z filmu "Kill Bill" albo z maską sado-
 macho jak człowiek zwany The Gimp w Pulp Fiction. Dziewczyny mogą wzią
 ć metalową kulę z kolcami lub żółty dres i miecz samurajski. Przy mu
 zyce z filmów Tarantino wszystko się może zdarzyć.\n\nEnvee :\nhttps:/
 /www.facebook.com/envee.ensemble/\nhttp://soundcloud.com/envee\n\nCpt.Spar
 ky :\nhttp://www.cptsparky.com\nhttp://www.soul-service.pl\nhttps://www.fa
 cebook.com/kapitan.sparky\nhttps://www.facebook.com/soulservicedjteam\nhtt
 ps://www.facebook.com/okoprorokakino\n\nZapraszamy serdecznie\n\nSTART 22:
 00 / Klub otwieramy o 18.00 \nWSTĘP 5 PLN*/ 10 PLN** / 15 PLN\nLista Face
 book do 22:00 10 PLN !!!\n\n\nINFO:\n* 5 PLN dla tych którzy przyjdą prz
 ebrani plus 50% taniej na pierwszego drinka na barze \n**Lista Facebook do
  godziny 22:00 wstęp 10 PLN\nobowiązuje wszystkich którzy klikną "wezm
 ę udział" do godziny 20:00 po tej godzinie osoby które się zapiszą na
  wydarzenie nie będą widniały na wydrukowanej liście.\n\nWstęp do klu
 bu za okazaniem dokumentu potwierdzającego pełnoletność.
ATTACH;FMTTYPE=image/jpeg:https://night4u.pl/wp-content/uploads/2019/11/97
 087_image_76228165_2720694371284895_543387670173188096_o.jpg
CATEGORIES:łódzkie
LOCATION:Belfast\, Kasztelańska 3\, Radomsko\, 97-500\, Poland
GEO:51.059406;19.443251
X-APPLE-STRUCTURED-LOCATION;VALUE=URI;X-ADDRESS=Kasztelańska 3\, Radomsko\
 , 97-500\, Poland;X-APPLE-RADIUS=100;X-TITLE=Belfast:geo:51.059406,19.4432
 51
END:VEVENT
BEGIN:VTIMEZONE
TZID:Europe/Warsaw
X-LIC-LOCATION:Europe/Warsaw
BEGIN:STANDARD
DTSTART:20191027T020000
TZOFFSETFROM:+0200
TZOFFSETTO:+0100
TZNAME:CET
END:STANDARD
END:VTIMEZONE
END:VCALENDAR