BEGIN:VCALENDAR
VERSION:2.0
PRODID:-//wp-events-plugin.com//7.2.3.1//EN
TZID:Europe/Warsaw
X-WR-TIMEZONE:Europe/Warsaw
BEGIN:VEVENT
UID:34334@night4u.pl
DTSTART;TZID=Europe/Warsaw:20200313T190000
DTEND;TZID=Europe/Warsaw:20200313T230000
DTSTAMP:20191031T075033Z
URL:https://night4u.pl/wydarzenia/punky-reggae-live-2020-bialystok-gwint/
SUMMARY:Punky Reggae live 2020 / Białystok - Gwint
DESCRIPTION:PUNKY REGGAE live 2020 / BIAŁYSTOK\n\n13.03.2020 / piątek - g
 odz. 19:00\nGwint\, ul. Zwierzyniecka 10\nFARBEN LEHRE + DR MISIO + the AN
 ALOGS + support\n\nbilety:\n50 PLN (przedsprzedaż do 31.12.2019)\n55 PLN 
 (przedsprzedaż od 01.01.2020)\n60 PLN (w dniu koncertu)\n\nsprzedaż bile
 tów:\n*KUPBILECIK\nhttps://www.kupbilecik.pl/imprezy/43207/Białystok/Pun
 ky+Reggae+Live+2020/\n*TICKETOS\nhttps://ticketos.pl/event/2579/punky-regg
 ae-live-2020-bialystok\n*BILETOMAT\nhttps://www.biletomat.pl/pop-rock/punk
 y-reggae-bialystok-8601/\n________________________________________________
 ____\n\nFB Farben Lehre: www.facebook.com/farbenlehreofficial \nFB Dr Misi
 o: www.facebook.com/drmisio\nFB the Analogs: www.facebook.com/TheAnalogs\n
 FB Gwint: www.facebook.com/klubgwint\n\nBrawurowa i energetyczna formacja 
 FARBEN LEHRE powstała we wrześniu 1986 roku. Od tamtego czasu na bogatą
  dyskografię kapeli składa się 13 płyt studyjnych oraz liczne kompilac
 je. Od wielu lat zespół bardzo dużo koncertuje zarówno w Polsce\, jak 
 i za granicą. Na swoim koncie płoccy muzycy mają występy u boku tak zn
 aczących formacji jak the Exploited\, Die Toten Hosen\, New Model Army\, 
 U.K.Subs\, G.B.H.\, Vibrators czy Dritte Wahl. W ostatnich 15 latach FL za
 grało ponad 1500 koncertów\, co sytuuje go w gronie najczęściej koncer
 tujących polskich (i nie tylko) zespołów. Od 2004 roku FARBEN LEHRE by
 ł pomysłodawcą oraz jednym z głównych wykonawców trasy koncertowej P
 unky Reggae live\, która rokrocznie odwiedzała kilkadziesiąt klubów w 
 większości dużych polskich miast\, a w 2018 roku – po kilku latach pr
 zerwy – ponownie powróciła na polską mapę koncertową. Żywiołowe k
 oncerty zawsze grane "na maksa" to bez wątpienia znak rozpoznawczy kapeli
  z Płocka. Od piętnastu lat zespół gra blisko 100 koncertów rocznie i
  wciąż aktywnie udziela się na wielu scenach naszego kraju oraz poza je
 go granicami. Na początku września 2018 ukazała się jedenasta płyta\,
  zatytułowana „Stacja Wolność”. 15 całkowicie premierowych kompozy
 cji to solidna mieszanka szybkiego\, dynamicznego grania oraz bardzo klima
 tycznych utworów\, z mocnym\, aktualnym przekazem.    \n\nMuzyka FARBEN L
 EHRE jest energiczna\, melodyjna\, pełna radości grania i wolna od kompl
 eksów. Ostre\, aczkolwiek przystępne dźwięki oraz garść szczerych s
 łów stanowią próbę duchowego porozumienia się z drugim człowiekiem.
  Najważniejsze utwory to "Anioły i demony"\, "Dobranoc"\, "Ferajna"\, "H
 andel"\, "Helikoptery"\, "Judasz"\, „Ludzie we mgle”\, "Matura"\, „N
 ierealne ogniska”\, "Spodnie z GS-u"\, „Stacja Wolność”  czy "Terr
 orystan".\n\nFARBEN LEHRE (skład):\nWojciech Wojda – wokal\, teksty\nKo
 nrad Wojda – gitara\, wokal\nFilip Grodzicki – gitara basowa\nGerard K
 lawe – perkusja\n\nwww.farbenlehre.plocman.pl (strona oficjalna)\nwww.fa
 cebook.com/farbenlehreofficial (FB)\n\nhttps://www.youtube.com/watch?v=rjP
 P5iQnFQg (Anioły i Demony)\nhttps://www.youtube.com/watch?v=kSeUmKJ7tWk (
 Ali-Baba)\nhttps://www.youtube.com/watch?v=FO5UoKppSBA (Ludzie we mgle)\nh
 ttps://www.youtube.com/watch?v=rcpNzcUWfFg (Stacja Wolność)\nhttps://www
 .youtube.com/watch?v=ZOiuVKXdnDE (Femina)\nhttps://www.youtube.com/watch?v
 =_zv4atF7CcM (Farben Lehre)\nhttps://www.youtube.com/watch?v=g3g7BXEoz7o (
 Spodnie z GS-u)\nhttps://www.youtube.com/watch?v=Q18F86Q-OU0 (Erato)\n____
 ________________________________________________\n\nFormacja Dr MISIO\, to
  męska załoga pod wodzą Arka Jakubika – jednego z najbardziej rozpozn
 awalnych polskich aktorów\, znanego ze świetnych ról dramatycznych w fi
 lmach Wojtka Smarzowskiego\, m.in. „Wesele”\, „Dom zły” „Drogó
 wka” czy „Kler”\, który na muzycznej scenie należy do jednych z na
 jbardziej żywiołowych frontmanów. Kapela gra ostrego rock’n’rolla b
 ez przebaczenia\, a solidne brzmienie\, ciężkie riffy i świetne teksty 
 Krzysztofa Wargi oraz Marcina Świetlickiego\, to znak rozpoznawczy całeg
 o projektu. Ich twórczość stanowi Interesującą propozycję\, nie tylk
 o dla fanów rocka\, ale przede wszystkim dla ludzi\, którzy poszukują w
  sztuce intelektualnych wrażeń i refleksji\, są otwarci na oryginalną 
 na formę\, a przy tym nie stronią od wspólnej\, wręcz rytualnej zabawy
 . Dr MISIO ma na swoim koncie trzy płyty: „Młodzi”\, „Pogo” (kt
 órej producentem muzycznym jest Olaf Deriglasoff) oraz wydany wiosną 201
 7 roku album „Zmartwychwstaniemy”. Najbardziej rozpoznawalnymi utworam
 i zespołu są\, m.in.: „Pogo”\, „Mentolowe papierosy”\, „Dziewc
 zyny”\, „Młodzi”\, „Hipster” i „Pismo”\, do którego kontro
 wersyjny\, ale bardzo dobrze oceniany teledysk zrobił Wojtek Smarzowski. 
 Obecnie zespół Dr MISIO pracuje nad swoją kolejną płytą\, której pr
 emiera planowana jest na początek 2020 roku\, zatem będzie ona już dost
 ępna na koncertach trasy PUNKY REGGAE live.  \nKapela sporo koncertuje\, 
 grając w małych klubach\, ale pojawiając się również na prestiżowyc
 h festiwalach\, takich jak: Jarocin\, Przystanek Woodstock czy Orkiestra M
 ęskie Granie.\n\nDr MISIO:\nArek Jakubik – wokal\nPaweł Derentowicz 
 – gitara \nMario Matysek – bas \nRadek Kupis – klawisze \nJan Prośc
 iński – perkusja \n\nfacebook:\nwww.facebook.com/drmisio\n\nhttps://www
 .youtube.com/watch?v=v0BBpVl34I0 (Pismo)\nhttps://www.youtube.com/watch?v=
 CdX7g3jSbug (Mentolowe papierosy)\nhttps://www.youtube.com/watch?v=7vnqnrO
 uTOs (Młodzi)\n____________________________________________________\n\nTH
 E ANALOGS powstali w 1995 roku w Szczecinie i są obecnie jednym z najprę
 żniej działających zespołów polskiej sceny punk rockowej. Na swoim ko
 ncie posiadają kilka płyt\, zagrali setki koncertów a takie utwory jak 
 „Era Techno”\, „Pieśń Aniołów” czy „Co Warte Jest Życie” 
 zna każdy fan\, nie tylko punk rocka. Ostatni jak do tej pory album zespo
 łu\, zatytułowany „Wilk” ukazał się w  styczniu 2018 roku\, zbiera
 jąc bardzo dobre recenzje i potwierdzając jednocześnie\, że THE ANALOG
 S to jeden z najlepszych zespołów polskiego punk rocka. W 2020 roku kape
 la będzie świętować swoje 25 urodziny\, dlatego na koncertach publiczn
 ość będzie mogła usłyszeć najbardziej znane piosenki ze wszystkich w
 ydanych do tej pory albumów. \n\nThe ANALOGS:\nKamil Rosiak – wokal\, g
 itara \nPaweł Czekała – gitara \nPrzemek Kaczmarek – bas \nKuba May 
 – perkusja \n\nwww.analogs.pl (oficjalna strona internetowa)\nwww.oldsch
 ool.pl  (oficjalny sklep zespołu)\nfacebook:\nwww.facebook.com/TheAnalogs
 \nwww.facebook.com/oldschoolpunx\n\nhttps://www.youtube.com/watch?v=D74BiY
 o0PzM (Ambicja)\nhttps://www.youtube.com/watch?v=as8e_4_m6DA (Co ugasi Tw
 ój ból)\nhttps://www.youtube.com/watch?v=XZaYGuPJUoM (Setki ran i blizn)
 \n____________________________________________________
ATTACH;FMTTYPE=image/jpeg:https://night4u.pl/wp-content/uploads/2019/10/88
 333_image_71592772_1159717134222272_5056221120747798528_o.jpg
CATEGORIES:podlaskie
LOCATION:Herkulesy klub\, Mickiewicza 2c\, Białystok\, 15-222\, Poland
GEO:53.129396;23.167055
X-APPLE-STRUCTURED-LOCATION;VALUE=URI;X-ADDRESS=Mickiewicza 2c\, Białystok
 \, 15-222\, Poland;X-APPLE-RADIUS=100;X-TITLE=Herkulesy klub:geo:53.129396
 ,23.167055
END:VEVENT
BEGIN:VTIMEZONE
TZID:Europe/Warsaw
X-LIC-LOCATION:Europe/Warsaw
BEGIN:STANDARD
DTSTART:20191027T020000
TZOFFSETFROM:+0200
TZOFFSETTO:+0100
TZNAME:CET
END:STANDARD
END:VTIMEZONE
END:VCALENDAR