BEGIN:VCALENDAR
VERSION:2.0
PRODID:-//wp-events-plugin.com//7.2.3.1//EN
TZID:Europe/Warsaw
X-WR-TIMEZONE:Europe/Warsaw
BEGIN:VEVENT
UID:31892@night4u.pl
DTSTART;TZID=Europe/Warsaw:20200306T190000
DTEND;TZID=Europe/Warsaw:20200306T230000
DTSTAMP:20191220T110114Z
URL:https://night4u.pl/wydarzenia/punky-reggae-live-2020-gdynia-ucho-3/
SUMMARY:Punky Reggae live 2020 / Gdynia - Ucho
DESCRIPTION:PUNKY REGGAE live 2020 / GDYNIA\n\n06.03.2020 / piątek - godz.
  19:00\nUcho\, ul. Św. Piotra 2\nFARBEN LEHRE + DR MISIO + the ANALOGS + 
 VALERY MESS\n\nbilety:\n50 PLN (przedsprzedaż do 31.12.2019)\n55 PLN (prz
 edsprzedaż od 01.01.2020)\n60 PLN (w dniu koncertu)\n\nsprzedaż biletów
 :\n\n* TICKETOS\nhttps://ticketos.pl/event/2574\n\n* KUPBILECIK\nwww.kupbi
 lecik.pl/imprezy/43205\n\n* BILETOMAT\nhttps://www.biletomat.pl/pop-rock/p
 unky-reggae-gdynia-8599/\n\n* eBILET\nhttps://sklep.ebilet.pl/211387707509
 702663\n____________________________________________________\n\nFB Farben 
 Lehre: www.facebook.com/farbenlehreofficial \nFB Dr Misio: www.facebook.co
 m/drmisio\nFB the Analogs: www.facebook.com/TheAnalogs\nFB Valery Mess: ww
 w.facebook.com/ValeryMessBDG\nFB Ucho: www.facebook.com/klubucho\n\nBrawur
 owa i energetyczna formacja FARBEN LEHRE powstała we wrześniu 1986 roku.
  Od tamtego czasu na bogatą dyskografię kapeli składa się 13 płyt stu
 dyjnych oraz liczne kompilacje. Od wielu lat zespół bardzo dużo koncert
 uje zarówno w Polsce\, jak i za granicą. Na swoim koncie płoccy muzycy 
 mają występy u boku tak znaczących formacji jak the Exploited\, Die Tot
 en Hosen\, New Model Army\, U.K.Subs\, G.B.H.\, Vibrators czy Dritte Wahl.
  W ostatnich 15 latach FL zagrało ponad 1500 koncertów\, co sytuuje go w
  gronie najczęściej koncertujących polskich (i nie tylko) zespołów. O
 d 2004 roku FARBEN LEHRE był pomysłodawcą oraz jednym z głównych wyko
 nawców trasy koncertowej Punky Reggae live\, która rokrocznie odwiedzał
 a kilkadziesiąt klubów w większości dużych polskich miast\, a w 2018 
 roku – po kilku latach przerwy – ponownie powróciła na polską mapę
  koncertową. Żywiołowe koncerty zawsze grane "na maksa" to bez wątpien
 ia znak rozpoznawczy kapeli z Płocka. Od piętnastu lat zespół gra blis
 ko 100 koncertów rocznie i wciąż aktywnie udziela się na wielu scenach
  naszego kraju oraz poza jego granicami. Wyjątkowo\, przez cały 2020 rok
 \, na swoich koncertach muzycy będą w dużym stopniu odnosili się do ma
 teriału z jednego z najważniejszych swoich albumów\, zatytułowanego "F
 arbenheit"\, który ukazał się dokładnie 20 temu\, w 2005 roku... Oczyw
 iście w setliście znajdą się również wybrane utwory z pozostałych p
 łyt FARBEN LEHRE\, zatem szykuje się prawdziwie energetyczny muzyczny ko
 ktajl koncertowy :) \n\nMuzyka FARBEN LEHRE jest energiczna\, melodyjna\, 
 pełna radości grania i wolna od kompleksów. Ostre\, aczkolwiek przystę
 pne dźwięki oraz garść szczerych słów stanowią próbę duchowego po
 rozumienia się z drugim człowiekiem. Najważniejsze utwory to "Achtung 2
 012"\, "Ali-Baba"\, "Anioły i demony"\, "Dobranoc"\, "Ferajna"\, "Handel"
 \, "Helikoptery"\, "Judasz"\, "Kolory"\, "Ludzie we mgle"\, "Matura" \, "N
 ierealne ogniska"\, "Pogodna"\, "Rozkołysanka"\, "Spodnie z GS-u"\, "Stac
 ja Wolność" czy "Terrorystan".\n\nFARBEN LEHRE (skład):\nWojciech Wojda
  – wokal\, teksty\nKonrad Wojda – gitara\, wokal\nFilip Grodzicki – 
 gitara basowa\nGerard Klawe – perkusja\n\nwww.farbenlehre.plocman.pl (st
 rona oficjalna)\nwww.facebook.com/farbenlehreofficial (FB)\n\nhttps://www.
 youtube.com/watch?v=rjPP5iQnFQg (Anioły i Demony)\nhttps://www.youtube.co
 m/watch?v=kSeUmKJ7tWk (Ali-Baba)\nhttps://www.youtube.com/watch?v=FO5UoKpp
 SBA (Ludzie we mgle)\nhttps://www.youtube.com/watch?v=rcpNzcUWfFg (Stacja 
 Wolność)\nhttps://www.youtube.com/watch?v=ZOiuVKXdnDE (Femina)\nhttps://
 www.youtube.com/watch?v=_zv4atF7CcM (Farben Lehre)\nhttps://www.youtube.co
 m/watch?v=g3g7BXEoz7o (Spodnie z GS-u)\nhttps://www.youtube.com/watch?v=Q1
 8F86Q-OU0 (Erato)\n____________________________________________________\n\
 nFormacja Dr MISIO\, to męska załoga pod wodzą Arka Jakubika – jedneg
 o z najbardziej rozpoznawalnych polskich aktorów\, znanego ze świetnych 
 ról dramatycznych w filmach Wojtka Smarzowskiego\, m.in. „Wesele”\, 
 „Dom zły” „Drogówka” czy „Kler”\, który na muzycznej scenie
  należy do jednych z najbardziej żywiołowych frontmanów. Kapela gra os
 trego rock’n’rolla bez przebaczenia\, a solidne brzmienie\, ciężkie 
 riffy i świetne teksty Krzysztofa Wargi oraz Marcina Świetlickiego\, to 
 znak rozpoznawczy całego projektu. Ich twórczość stanowi Interesując
 ą propozycję\, nie tylko dla fanów rocka\, ale przede wszystkim dla lud
 zi\, którzy poszukują w sztuce intelektualnych wrażeń i refleksji\, s
 ą otwarci na oryginalną na formę\, a przy tym nie stronią od wspólnej
 \, wręcz rytualnej zabawy. Dr MISIO ma na swoim koncie trzy płyty: „M
 łodzi”\, „Pogo” (której producentem muzycznym jest Olaf Deriglasof
 f) oraz wydany wiosną 2017 roku album „Zmartwychwstaniemy”. Najbardzi
 ej rozpoznawalnymi utworami zespołu są\, m.in.: „Pogo”\, „Mentolow
 e papierosy”\, „Dziewczyny”\, „Młodzi”\, „Hipster” i „Pis
 mo”\, do którego kontrowersyjny\, ale bardzo dobrze oceniany teledysk z
 robił Wojtek Smarzowski. Obecnie zespół Dr MISIO pracuje nad swoją kol
 ejną płytą\, której premiera planowana jest na początek 2020 roku\, z
 atem będzie ona już dostępna na koncertach trasy PUNKY REGGAE live.  \n
 Kapela sporo koncertuje\, grając w małych klubach\, ale pojawiając się
  również na prestiżowych festiwalach\, takich jak: Jarocin\, Przystanek
  Woodstock czy Orkiestra Męskie Granie.\n\nDr MISIO:\nArek Jakubik – wo
 kal\nPaweł Derentowicz – gitara \nMario Matysek – bas \nRadek Kupis 
 – klawisze \nJan Prościński – perkusja \n\nfacebook:\nwww.facebook.c
 om/drmisio\n\nhttps://www.youtube.com/watch?v=v0BBpVl34I0 (Pismo)\nhttps:/
 /www.youtube.com/watch?v=CdX7g3jSbug (Mentolowe papierosy)\nhttps://www.yo
 utube.com/watch?v=7vnqnrOuTOs (Młodzi)\n_________________________________
 ___________________\n\nTHE ANALOGS powstali w 1995 roku w Szczecinie i są
  obecnie jednym z najprężniej działających zespołów polskiej sceny p
 unk rockowej. Na swoim koncie posiadają kilka płyt\, zagrali setki konce
 rtów a takie utwory jak „Era Techno”\, „Pieśń Aniołów” czy 
 „Co Warte Jest Życie” zna każdy fan\, nie tylko punk rocka. Ostatni 
 jak do tej pory album zespołu\, zatytułowany „Wilk” ukazał się w  
 styczniu 2018 roku\, zbierając bardzo dobre recenzje i potwierdzając jed
 nocześnie\, że THE ANALOGS to jeden z najlepszych zespołów polskiego p
 unk rocka. W 2020 roku kapela będzie świętować swoje 25 urodziny\, dla
 tego na koncertach publiczność będzie mogła usłyszeć najbardziej zna
 ne piosenki ze wszystkich wydanych do tej pory albumów. \n\nThe ANALOGS:\
 nKamil Rosiak – wokal\, gitara \nPaweł Czekała – gitara \nPrzemek Ka
 czmarek – bas \nKuba May – perkusja \n\nwww.analogs.pl (oficjalna stro
 na internetowa)\nwww.oldschool.pl  (oficjalny sklep zespołu)\n:\nFB www.f
 acebook.com/TheAnalogs\nFB www.facebook.com/oldschoolpunx\n\nhttps://www.y
 outube.com/watch?v=D74BiYo0PzM (Ambicja)\nhttps://www.youtube.com/watch?v=
 as8e_4_m6DA (Co ugasi Twój ból)\nhttps://www.youtube.com/watch?v=XZaYGuP
 JUoM (Setki ran i blizn)\n________________________________________________
 ____
ATTACH;FMTTYPE=image/jpeg:https://night4u.pl/wp-content/uploads/2019/12/75
 247_image_79762077_1229612500566068_8500122737031774208_o.jpg
CATEGORIES:pomorskie
LOCATION:Klub Muzyczny Ucho\, ul. Św. Piotra 2\, Gdynia\, 81-347\, Poland
GEO:54.524475;18.546909
X-APPLE-STRUCTURED-LOCATION;VALUE=URI;X-ADDRESS=ul. Św. Piotra 2\, Gdynia\
 , 81-347\, Poland;X-APPLE-RADIUS=100;X-TITLE=Klub Muzyczny Ucho:geo:54.524
 475,18.546909
END:VEVENT
BEGIN:VTIMEZONE
TZID:Europe/Warsaw
X-LIC-LOCATION:Europe/Warsaw
BEGIN:STANDARD
DTSTART:20191027T020000
TZOFFSETFROM:+0200
TZOFFSETTO:+0100
TZNAME:CET
END:STANDARD
END:VTIMEZONE
END:VCALENDAR