BEGIN:VCALENDAR
VERSION:2.0
PRODID:-//wp-events-plugin.com//7.2.3.1//EN
TZID:Europe/Warsaw
X-WR-TIMEZONE:Europe/Warsaw
BEGIN:VEVENT
UID:3763@night4u.pl
DTSTART;TZID=Europe/Warsaw:20190119T220000
DTEND;TZID=Europe/Warsaw:20190120T060000
DTSTAMP:20190116T101607Z
URL:https://night4u.pl/wydarzenia/pussystacja-carnavale-sq-klub/
SUMMARY:Pussystacja Carnavale! | SQ klub
DESCRIPTION:Po długiej przerwie Pussystacja powraca do SQ!\n\nTo imprezowy
  cykl z najdłuższym stażem w Poznaniu\, którego założeniem jest prez
 entowanie ciekawej elektroniki i pozytywnych brzmień o stricte tanecznym 
 charakterze!\n\nTej nocy muzyczne stery przejmą Easy i Wookie\, wspierani
  przez CJ'a (live perkusja). Chilloutem zarządzi Shamut!\n\n#######\n\n19
 .01 Pussystacja!\n\nEasy\nWookie & CJ – live perkusja\nShamut\n\nstart: 
 22:00\n\nbilety: 20 zł do 23:30 / 25 zł po 23:30 [karty klubowe 20 zł] 
 / dziewczyny do 23:00 wstęp FREE!\n\n#######\n\nPussystacja to jedna z na
 starszych imprez klubowych w Poznaniu. Jej początki sięgają 2001\, kied
 y to poznańscy housiarze Shamut i Wookie zawiązali kolektyw Pussydog\, z
 asiewając zamęt na wielkopolskiej scenie. Pierwsza PUSSYSTACJA odbyła s
 ię 9 marca 2001 w nieistniejącym już klubie MO\, jej gościem był Glas
 se a impreza pobiła miejscowy rekord frekwencji. Jedne z pierwszych edycj
 i imprezy odbywały się na Tarasie Widokowym na 18p AE\, tworząc z tego 
 miejsca legendarną już „imprezownię” miasta. Impreza często zmieni
 ała lokale aby w końcu zakotwiczyć w starym dobrym Eskulapie a po przep
 rowadzce klubu\, w nowym SQ. Od samego początku najważniejszą ideą imp
 rez była niczym nieskrępowana\, pozytywna zabawa. Pussystacja to zawsze 
 nowoczesne rytmy muzyki elektronicznej\, których główną cechą jest po
 zytywne brzmienie i stricte taneczny charakter. Pussystacja nigdy nie ogra
 niczała się do prezentowania tylko jednego stylu muzycznego\, jest zawsz
 e eklektyczna i czerpie z wielu odmian muzyki „klubowej”.
ATTACH;FMTTYPE=image/jpeg:https://night4u.pl/wp-content/uploads/2019/01/11
 710_image_49896094_10157081170377940_9203702357949415424_o.jpg
CATEGORIES:wielkopolskie
LOCATION:SQ klub\, Poznan\, Poland
GEO:52.40174;16.926687
X-APPLE-STRUCTURED-LOCATION;VALUE=URI;X-ADDRESS=Poznan\, Poland;X-APPLE-RAD
 IUS=100;X-TITLE=SQ klub:geo:52.40174,16.926687
END:VEVENT
BEGIN:VTIMEZONE
TZID:Europe/Warsaw
X-LIC-LOCATION:Europe/Warsaw
BEGIN:STANDARD
DTSTART:20181028T020000
TZOFFSETFROM:+0200
TZOFFSETTO:+0100
TZNAME:CET
END:STANDARD
END:VTIMEZONE
END:VCALENDAR