BEGIN:VCALENDAR
VERSION:2.0
PRODID:-//wp-events-plugin.com//7.2.3.1//EN
TZID:Europe/Warsaw
X-WR-TIMEZONE:Europe/Warsaw
BEGIN:VEVENT
UID:10995@night4u.pl
DTSTART;TZID=Europe/Warsaw:20191119T180000
DTEND;TZID=Europe/Warsaw:20191119T230000
DTSTAMP:20191118T155417Z
URL:https://night4u.pl/wydarzenia/queensryche-firewind-19-xi-krakow/
SUMMARY:Queensryche + Firewind / 19 XI / Kraków
DESCRIPTION:🚪 18:00 - Drzwi\n🤘 19:00-19:30 - Dark Sky Choir\n🤘 19:
 45-20:30 - Firewind\n🤘 21:00-... - Queensryche\n\n--\n\nKnock Out Produ
 ctions prezentuje koncert zespołu Queensryche w Krakowie!\n\n19 listopada
  na deskach klubu Kwadrat\, wystąpi formacja Queensryche. Amerykanie przy
 jadą do Polski promować swój najnowszy album „The Verdict”\, który
  ukazał się 1 marca za sprawą Century Media Records. W roli gościa spe
 cjalnego wystąpi zespół Firewind z Grecji.\n \nBilety dostępne na:\n
 🎟 sklep.knockoutprod.net (druki kolekcjonerskie)\n🎟 www.eventim.pl\n
 \n\n🎶 QUEENSRYCHE (USA) heavy metal\, progresywny metal:\n\nQueensryche
  to niekwestionowana legenda progresywnego metalu\, obok takich grup\, jak
  Fates Warning\, Vicious Rumors\, czy Savatage. Początki twórców klasyc
 znych albumów "Operation: Mindcrime"\, czy "Empire" to końcówka lat 70.
  XX wieku\, kiedy wspólnie muzykować postanowili nastoletni koledzy z mi
 asteczka Bellevue\, Michael Wilton i Chris DeGarmo. Obaj panowie grali na 
 gitarach. Jako kolejny dołączył do nich perkusista Scott Rockenfield\, 
 po nim sekcję rytmiczną uzupełnił basista Eddie Jackson\, a posadę wo
 kalisty objął obdarzony fantastycznym głosem Geoff Tate. Oficjalne naro
 dziny Queensryche to rok 1982. Rok później na rynku pojawiła się kulto
 wa dziś EP-ka "Queen Of The Ryche".\n\nPrzez kolejnych 18 lat Queensryche
  w wymienionym składzie odnosił wielkie sukcesy (ponad 20 mln sprzedanyc
 h płyt\, trzy nominacje do Grammy) i stał się najważniejszą grupą wy
 konującą progmetal. W 1998 roku pożegnał się z zespołem Chris\, jede
 n z głównych kompozytorów\, co odbiło się na jakości kilku kolejnych
  albumów. Potem nastąpiła kilkumiesięczna opera mydlana\, której fina
 łem było rozstanie z Geoffem Tatem i umowa z nim\, na której mocy rezyg
 nował z praw do nazwy. Queensryche po tych zawirowaniach odrodził się w
  imponującym stylu\, ze znanym z Crimson Glory Toddem La Torre na wokalu.
  Zespół nagrał z nim trzy udane albumy. Tym trzecim jest "The Verdict" 
 (premiera 1 marca 2019)\, który Amerykanie będą promować w Polsce.\n\n
 Sprawdź\, jeśli lubisz: Fates Warning\, Symphony X\, Dream Theater...\n\
 n▶ http://www.queensrycheofficial.com\n▶ https://web.facebook.com/Quee
 nsrycheOfficial\n▶ https://www.youtube.com/watch?v=qqI4OfolPuo\n\n🎶 F
 IREWIND (Grecja) heavy metal\, power metal:\n\nWiele\, wiele lat przed do
 łączeniem do zespołu Ozzy'ego Osbourne'a\, 18-letni Grek Konstantinos K
 aramitroudis\, którego świat metalu zna od lat jako Gusa G\, postanowił
  nagrać i wydać demo. Celem niedoszłego absolwenta prestiżowej Berklee
  College Of Music było zainteresowanie swoimi nieprzeciętnymi umiejętno
 ściami gitarowymi szefów wytwórni płytowych. Był rok 1998\, a Gus prz
 ebywał właśnie w USA\, gdzie poznał cenionego gitarowego wymiatacza Jo
 e Stumpa. Następnie zebrał paru amerykańskich muzyków i nagrał demów
 kę pod szyldem Firewind\, zaczerpniętym od Uli Jona Rotha. Tak zaczęła
  się historia największego obecnie greckiego zespołu\, który gra power
  metal pomieszany z heavy.\n\nUmiejętności Gusa zostały szybko zauważo
 ne\, dlatego też kariera Firewind wystartowała z opóźnieniem. Grecki w
 irtuoz był bowiem zatrudniany przez\, chociażby Nightrage\, Dream Evil\,
  czy Mystic Prophecy. W końcu przyszło zaproszenie od Księcia Ciemnośc
 i\, z którym Gus zaczął współpracować w 2009\, zastępując Zakka Wy
 lde'a.\n\nPomimo licznych zobowiązań\, solowych albumów i gościnnych w
 ystępów\, Grekowi udało się utrzymać przy życiu Firewind. Zespół r
 egularnie koncertuje i nagrywa. Na wydanym w 2017 roku albumie "Immortals"
  zadebiutował na wokalu Henning Basse (m.in. eks-Brainstorm). Oprócz wok
 alisty i lidera w składzie Firewind są jeszcze klawiszowiec Bob Katsioni
 s\, basista Petros Christo i perkusista Johan Nunez.\n\nSprawdź\, jeśli 
 lubisz: Helloween\, Masterplan\, Primal Fear...\n\n▶ http://firewind.gr\
 n▶ https://www.facebook.com/firewindofficial\n▶ https://www.youtube.co
 m/watch?v=kF_nYCnVjcM\n\n\nZagrają:\nQUEENSRYCHE (USA) heavy metal\, prog
 resywny metal\n+\nFirewind (Grecja) heavy metal\, power metal\n\nKiedy: 19
  listopada (wtorek) 2019\nGdzie: Kraków @ Kwadrat\, ul. Skarżyńskiego 1
 \nBilety: 95 zł – przedsprzedaż\, 110 zł – w dniu koncertu\nOrganiz
 ator: Knock Out Productions\n\nBilety dostępne na:\n🎟 sklep.knockoutpr
 od.net (druki kolekcjonerskie)\n🎟 www.eventim.pl\n\n\nZaprasza\nKnock O
 ut Productions	\nhttp://www.knockoutprod.net\nhttps://www.facebook.com/pro
 ductions.knock.out\nhttps://www.instagram.com/knockoutprod
ATTACH;FMTTYPE=image/jpeg:https://night4u.pl/wp-content/uploads/2019/03/28
 697_image_54728052_2222249414464480_3111978980211687424_o.jpg
CATEGORIES:małopolskie
LOCATION:Hala Forum\, Marii Konopnickiej 28\, Kraków\, 30-302\, Poland
GEO:50.04504;19.93639
X-APPLE-STRUCTURED-LOCATION;VALUE=URI;X-ADDRESS=Marii Konopnickiej 28\, Kra
 ków\, 30-302\, Poland;X-APPLE-RADIUS=100;X-TITLE=Hala Forum:geo:50.04504,
 19.93639
END:VEVENT
BEGIN:VTIMEZONE
TZID:Europe/Warsaw
X-LIC-LOCATION:Europe/Warsaw
BEGIN:STANDARD
DTSTART:20191027T020000
TZOFFSETFROM:+0200
TZOFFSETTO:+0100
TZNAME:CET
END:STANDARD
END:VTIMEZONE
END:VCALENDAR