BEGIN:VCALENDAR
VERSION:2.0
PRODID:-//wp-events-plugin.com//7.2.3.1//EN
TZID:Europe/Warsaw
X-WR-TIMEZONE:Europe/Warsaw
BEGIN:VEVENT
UID:21029@night4u.pl
DTSTART;TZID=Europe/Warsaw:20190704T200000
DTEND;TZID=Europe/Warsaw:20190705T020000
DTSTAMP:20190704T024657Z
URL:https://night4u.pl/wydarzenia/queernight-2019-bilety/
SUMMARY:QueerNight 2019 / bilety
DESCRIPTION:QueerNight jakiego jeszcze nie było! \n\nZapraszamy na jedno z
  głównych wydarzeń Poznań Pride Week 2019! Tej nocy zapominamy o grani
 cach - niech Poznań zapłonie! Gość specjalny\, prosto z amerykańskiej
  sceny\, gwiazda 9 sezonu RuPaul's Drag Race i sezonu 3 RuPaul's Drag Race
  All Stars - AJA 
ATTACH;FMTTYPE=image/jpeg:https://night4u.pl/wp-content/uploads/2019/07/50
 238_image_58543519_1566165046860469_3301900604384739328_o.jpg
CATEGORIES:wielkopolskie
LOCATION:Tama\, ul. Niezłomnych 2\, Poznan\, 61-714\, Poland
GEO:52.402524;16.922364
X-APPLE-STRUCTURED-LOCATION;VALUE=URI;X-ADDRESS=ul. Niezłomnych 2\, Poznan
 \, 61-714\, Poland;X-APPLE-RADIUS=100;X-TITLE=Tama:geo:52.402524,16.922364
END:VEVENT
BEGIN:VTIMEZONE
TZID:Europe/Warsaw
X-LIC-LOCATION:Europe/Warsaw
BEGIN:DAYLIGHT
DTSTART:20190331T030000
TZOFFSETFROM:+0100
TZOFFSETTO:+0200
TZNAME:CEST
END:DAYLIGHT
END:VTIMEZONE
END:VCALENDAR