BEGIN:VCALENDAR
VERSION:2.0
PRODID:-//wp-events-plugin.com//7.2.3.1//EN
TZID:Europe/Warsaw
X-WR-TIMEZONE:Europe/Warsaw
BEGIN:VEVENT
UID:38298@night4u.pl
DTSTART;TZID=Europe/Warsaw:20191220T220000
DTEND;TZID=Europe/Warsaw:20191221T060000
DTSTAMP:20191220T110527Z
URL:https://night4u.pl/wydarzenia/rabit-x-karl/
SUMMARY:Rabit x Karl
DESCRIPTION:Piąteczek w absie z Dj/rabitem i Karlem?! Idę! Idziesz? Ja id
 ę!\n#rabit #karl #chodoabsa #dorana !
ATTACH;FMTTYPE=image/jpeg:https://night4u.pl/wp-content/uploads/2019/12/10
 9509_image_77271152_10157664105238745_6771958872149065728_o.jpg
CATEGORIES:pomorskie
LOCATION:Cafe Absinthe Gdańsk\, Targ Węglowy(Teatr Wybrzeże)\, Gdansk\, 
 80-834\, Poland
GEO:54.350816;18.64826
X-APPLE-STRUCTURED-LOCATION;VALUE=URI;X-ADDRESS=Targ Węglowy(Teatr Wybrze
 że)\, Gdansk\, 80-834\, Poland;X-APPLE-RADIUS=100;X-TITLE=Cafe Absinthe G
 dańsk:geo:54.350816,18.64826
END:VEVENT
BEGIN:VTIMEZONE
TZID:Europe/Warsaw
X-LIC-LOCATION:Europe/Warsaw
BEGIN:STANDARD
DTSTART:20191027T020000
TZOFFSETFROM:+0200
TZOFFSETTO:+0100
TZNAME:CET
END:STANDARD
END:VTIMEZONE
END:VCALENDAR